BEGIN:VCALENDAR
VERSION:2.0
PRODID:-//Övertorneå evenemang - ECPv6.15.1.1//NONSGML v1.0//EN
CALSCALE:GREGORIAN
METHOD:PUBLISH
X-ORIGINAL-URL:https://overtorneaevenemang.se
X-WR-CALDESC:Händelser för Övertorneå evenemang
REFRESH-INTERVAL;VALUE=DURATION:PT1H
X-Robots-Tag:noindex
X-PUBLISHED-TTL:PT1H
BEGIN:VTIMEZONE
TZID:Europe/Stockholm
BEGIN:DAYLIGHT
TZOFFSETFROM:+0100
TZOFFSETTO:+0200
TZNAME:CEST
DTSTART:20220327T010000
END:DAYLIGHT
BEGIN:STANDARD
TZOFFSETFROM:+0200
TZOFFSETTO:+0100
TZNAME:CET
DTSTART:20221030T010000
END:STANDARD
BEGIN:DAYLIGHT
TZOFFSETFROM:+0100
TZOFFSETTO:+0200
TZNAME:CEST
DTSTART:20230326T010000
END:DAYLIGHT
BEGIN:STANDARD
TZOFFSETFROM:+0200
TZOFFSETTO:+0100
TZNAME:CET
DTSTART:20231029T010000
END:STANDARD
BEGIN:DAYLIGHT
TZOFFSETFROM:+0100
TZOFFSETTO:+0200
TZNAME:CEST
DTSTART:20240331T010000
END:DAYLIGHT
BEGIN:STANDARD
TZOFFSETFROM:+0200
TZOFFSETTO:+0100
TZNAME:CET
DTSTART:20241027T010000
END:STANDARD
BEGIN:DAYLIGHT
TZOFFSETFROM:+0100
TZOFFSETTO:+0200
TZNAME:CEST
DTSTART:20250330T010000
END:DAYLIGHT
BEGIN:STANDARD
TZOFFSETFROM:+0200
TZOFFSETTO:+0100
TZNAME:CET
DTSTART:20251026T010000
END:STANDARD
BEGIN:DAYLIGHT
TZOFFSETFROM:+0100
TZOFFSETTO:+0200
TZNAME:CEST
DTSTART:20260329T010000
END:DAYLIGHT
BEGIN:STANDARD
TZOFFSETFROM:+0200
TZOFFSETTO:+0100
TZNAME:CET
DTSTART:20261025T010000
END:STANDARD
END:VTIMEZONE
BEGIN:VEVENT
DTSTART;TZID=Europe/Stockholm:20260405T110000
DTEND;TZID=Europe/Stockholm:20260405T133000
DTSTAMP:20260423T174203
CREATED:20260313T134834Z
LAST-MODIFIED:20260313T134834Z
UID:10001450-1775386800-1775395800@overtorneaevenemang.se
SUMMARY:Armasjärvi Nappet
DESCRIPTION:Fiska upp 5.000 kr på påskdagen! Missa inte årets roligaste familjefest på isen!” Fira påskdagen på isen – Armasjärvinappet är tillbaka! ☀️🐣\nGör påskdagen till en succé för hela familjen! Kom och njut av den friska luften\, spänningen när det nappar och en fantastisk gemenskap på Armasjärvis is. Oavsett om du är en erfaren pimpelfiskare eller vill prova på för första gången\, är du varmt välkommen!\nVarför ska du inte missa detta?\nChans på storkovan: Vi har en rejäl prispott! Vinnaren i den öppna klassen kammar hem hela 5 000 kr. 💰\nAlla barn är vinnare: I ungdomsklassen får alla deltagare pris! En perfekt dag för små fiskare med stora drömmar.\nSpänning för alla: Det är inte bara fiskelyckan som räknas. På ditt startkort har du chansen att vinna ett presentkort på 5 000 kr i vår stora utlottning! 🎁\nMat & Mys: Vi har servering på plats\, så du kan njuta av något gott att äta och dricka mellan nappen.\nTävlingsinfo:\n📅 När: Påskdagen den 5 april.\n⏰ Tid: Öppen klass 11.00–13.30 | Ungdom 11.00–12.30.\n📍 Plats: Armasjärvi.\n🎟️ Startavgift: 100 kr för vuxna\, 50 kr för ungdomar.\nReglerna är enkla: Sammanlagd vikt vinner\, alla fiskar räknas\, och vi delar även ut pris till dagens absolut största fisk! 🐟\nTa med solglasögonen\, sittunderlaget och ditt bästa fiskemössa så gör vi Armasjärvi till påskens givna mötesplats. Vi ses på isen!\nVarmt välkomna önskar Armasjärvi Byaförening!
URL:https://overtorneaevenemang.se/evenemang/armasjarvi-nappet-5/
LOCATION:Armasjärvi
CATEGORIES:Öppet för alla
ATTACH;FMTTYPE=image/jpeg:https://overtorneaevenemang.se/wp-content/uploads/2026/03/DSC2839-scaled.jpg
END:VEVENT
BEGIN:VEVENT
DTSTART;TZID=Europe/Stockholm:20250420T110000
DTEND;TZID=Europe/Stockholm:20250420T140000
DTSTAMP:20260423T174203
CREATED:20250404T133401Z
LAST-MODIFIED:20250404T133401Z
UID:10001165-1745146800-1745157600@overtorneaevenemang.se
SUMMARY:Armasjärvi Nappet
DESCRIPTION:Kom du också och ta hela familjen med dig .  Borra ett hål i isen och sedan med hjälp av ett pimpelspö\, lina och bete lura fisken att hugga med varierande ryck. Den som får mest fisk räknat i vikt vinner. Vi räknar alla fiskar. Pris till den som fångar  dagens största fisk! Ala erhåller pris i ungdomsklassen . Och på startkorten utlottas presentkort på 5.000:-
URL:https://overtorneaevenemang.se/evenemang/armasjarvi-nappet-4/
LOCATION:Armasjärvi
CATEGORIES:Familjeaktivitet
ATTACH;FMTTYPE=image/jpeg:https://overtorneaevenemang.se/wp-content/uploads/2025/04/DSC_4975-scaled.jpg
END:VEVENT
BEGIN:VEVENT
DTSTART;TZID=Europe/Stockholm:20240331T110000
DTEND;TZID=Europe/Stockholm:20240331T140000
DTSTAMP:20260423T174203
CREATED:20240315T115351Z
LAST-MODIFIED:20240315T115351Z
UID:10000899-1711882800-1711893600@overtorneaevenemang.se
SUMMARY:Armasjärvi Nappet
DESCRIPTION:Pimpeltävling för alla!
URL:https://overtorneaevenemang.se/evenemang/armasjarvi-nappet-3/
LOCATION:Armasjärvi
CATEGORIES:Familjeaktivitet
ATTACH;FMTTYPE=image/jpeg:https://overtorneaevenemang.se/wp-content/uploads/2024/03/IMG_0891-scaled.jpg
END:VEVENT
BEGIN:VEVENT
DTSTART;TZID=Europe/Stockholm:20230916T110000
DTEND;TZID=Europe/Stockholm:20230916T150000
DTSTAMP:20260423T174203
CREATED:20230901T135237Z
LAST-MODIFIED:20230901T135237Z
UID:10000756-1694862000-1694876400@overtorneaevenemang.se
SUMMARY:Armasjärvi höstmarknad
DESCRIPTION:Höstmarknad i Armasjärvi
URL:https://overtorneaevenemang.se/evenemang/armasjarvi-hostmarknad-2/
LOCATION:Armasjärvi byastugan\, Armasjärvi
CATEGORIES:Familjeaktivitet
ATTACH;FMTTYPE=image/jpeg:https://overtorneaevenemang.se/wp-content/uploads/2023/09/20230901_134423-scaled.jpg
END:VEVENT
BEGIN:VEVENT
DTSTART;TZID=Europe/Stockholm:20220417T110000
DTEND;TZID=Europe/Stockholm:20220417T140000
DTSTAMP:20260423T174203
CREATED:20220310T134554Z
LAST-MODIFIED:20220310T134554Z
UID:10000296-1650193200-1650204000@overtorneaevenemang.se
SUMMARY:Armasjärvi Nappet
DESCRIPTION:Pimpeltävling för hela familjen.  På startkorten utlottas presentkort på 5.000:-\nKlasser: Öppen och ungdom  Tävlingstid Öppen klass: 11-14 Ungdom : 11-13\nStartavgift Vuxna: 100 kr\, Ungdom :50 kr\nPriser Öppen: 5000:-\, 3000:-\, 1000:- och 500:-\nPriser Ungdom: 1000:-\, 500:- och 250:- Alla erhåller pris i ungdomsklassen\,\nServering!\nArmasjärvi byaförening önskar er alla hjärtligt välkomna
URL:https://overtorneaevenemang.se/evenemang/armasjarvi-nappet/
CATEGORIES:Familjeaktivitet
ATTACH;FMTTYPE=image/jpeg:https://overtorneaevenemang.se/wp-content/uploads/2022/03/DSC2370_edited-scaled.jpg
END:VEVENT
END:VCALENDAR