BEGIN:VCALENDAR
VERSION:2.0
PRODID:-//Övertorneå evenemang - ECPv6.15.1.1//NONSGML v1.0//EN
CALSCALE:GREGORIAN
METHOD:PUBLISH
X-ORIGINAL-URL:https://overtorneaevenemang.se
X-WR-CALDESC:Händelser för Övertorneå evenemang
REFRESH-INTERVAL;VALUE=DURATION:PT1H
X-Robots-Tag:noindex
X-PUBLISHED-TTL:PT1H
BEGIN:VTIMEZONE
TZID:Europe/Stockholm
BEGIN:DAYLIGHT
TZOFFSETFROM:+0100
TZOFFSETTO:+0200
TZNAME:CEST
DTSTART:20190331T010000
END:DAYLIGHT
BEGIN:STANDARD
TZOFFSETFROM:+0200
TZOFFSETTO:+0100
TZNAME:CET
DTSTART:20191027T010000
END:STANDARD
BEGIN:DAYLIGHT
TZOFFSETFROM:+0100
TZOFFSETTO:+0200
TZNAME:CEST
DTSTART:20200329T010000
END:DAYLIGHT
BEGIN:STANDARD
TZOFFSETFROM:+0200
TZOFFSETTO:+0100
TZNAME:CET
DTSTART:20201025T010000
END:STANDARD
BEGIN:DAYLIGHT
TZOFFSETFROM:+0100
TZOFFSETTO:+0200
TZNAME:CEST
DTSTART:20210328T010000
END:DAYLIGHT
BEGIN:STANDARD
TZOFFSETFROM:+0200
TZOFFSETTO:+0100
TZNAME:CET
DTSTART:20211031T010000
END:STANDARD
BEGIN:DAYLIGHT
TZOFFSETFROM:+0100
TZOFFSETTO:+0200
TZNAME:CEST
DTSTART:20220327T010000
END:DAYLIGHT
BEGIN:STANDARD
TZOFFSETFROM:+0200
TZOFFSETTO:+0100
TZNAME:CET
DTSTART:20221030T010000
END:STANDARD
BEGIN:DAYLIGHT
TZOFFSETFROM:+0100
TZOFFSETTO:+0200
TZNAME:CEST
DTSTART:20230326T010000
END:DAYLIGHT
BEGIN:STANDARD
TZOFFSETFROM:+0200
TZOFFSETTO:+0100
TZNAME:CET
DTSTART:20231029T010000
END:STANDARD
BEGIN:DAYLIGHT
TZOFFSETFROM:+0100
TZOFFSETTO:+0200
TZNAME:CEST
DTSTART:20240331T010000
END:DAYLIGHT
BEGIN:STANDARD
TZOFFSETFROM:+0200
TZOFFSETTO:+0100
TZNAME:CET
DTSTART:20241027T010000
END:STANDARD
BEGIN:DAYLIGHT
TZOFFSETFROM:+0100
TZOFFSETTO:+0200
TZNAME:CEST
DTSTART:20250330T010000
END:DAYLIGHT
BEGIN:STANDARD
TZOFFSETFROM:+0200
TZOFFSETTO:+0100
TZNAME:CET
DTSTART:20251026T010000
END:STANDARD
END:VTIMEZONE
BEGIN:VEVENT
DTSTART;VALUE=DATE:20251226
DTEND;VALUE=DATE:20251228
DTSTAMP:20260422T130032
CREATED:20251208T184723Z
LAST-MODIFIED:20251208T213926Z
UID:10001366-1766707200-1766879999@overtorneaevenemang.se
SUMMARY:Innebandyturnering
DESCRIPTION:Under mellandagarna 26-27 december håller Korpen Övertorneå i den årliga innebandyturneringen! Läktaren är öppen för åskådare och fika kommer att kunna köpas i kiosken.   \nLag anmäls senast den 15 december till korpen.overtornea@gmail.com.  \nMinst 6 spelare / lag\n(5 + målvakt)\nFrån 13+ år\nKostnad 1000:- / lag
URL:https://overtorneaevenemang.se/evenemang/innebandyturnering/
LOCATION:Övertorneå sim- och sporthall\, Skolvägen 15\, Övertorneå\, 95731
CATEGORIES:Öppet för alla
ATTACH;FMTTYPE=image/jpeg:https://overtorneaevenemang.se/wp-content/uploads/2025/12/IMG_7085-1.jpeg
ORGANIZER;CN="Korpen %C3%96vertorne%C3%A5":MAILTO:korpen.overtornea@telia.com
END:VEVENT
BEGIN:VEVENT
DTSTART;TZID=Europe/Stockholm:20190915T110000
DTEND;TZID=Europe/Stockholm:20190915T110000
DTSTAMP:20260422T130032
CREATED:20190531T220334Z
LAST-MODIFIED:20190531T220334Z
UID:10000075-1568545200-1568545200@overtorneaevenemang.se
SUMMARY:Ruskapromenaden
DESCRIPTION:Start och mål vid fågeltornet Särkijärvi. \nTipspromenad\, korvgrillning\, utlottning av priser. \nIngen föranmälan och inga startavgifter.
URL:https://overtorneaevenemang.se/evenemang/ruskapromenaden/
LOCATION:Särkijärvi fågeltorn
CATEGORIES:Idrott
ORGANIZER;CN="Korpen %C3%96vertorne%C3%A5":MAILTO:korpen.overtornea@telia.com
END:VEVENT
BEGIN:VEVENT
DTSTART;TZID=Europe/Stockholm:20190818T110000
DTEND;TZID=Europe/Stockholm:20190818T110000
DTSTAMP:20260422T130032
CREATED:20190531T215307Z
LAST-MODIFIED:20190531T215307Z
UID:10000074-1566126000-1566126000@overtorneaevenemang.se
SUMMARY:Höstlöpet
DESCRIPTION:Söndag 18 augusti. Kl. 12. \nTerrängtävling. ”Tävla eller motionera!” Isovaara elljusspåret. Olika sträckor med eller utan tidtagning. \nUtlottning av priser. \nSträckor med eller utan tidtagning ! \nAvgifter: \nBarn 20 kr.\nVuxna och juniorer 50 kr. \nAnmälan senast fre 16/8 \nEfteranmälan på plats med 5 kr tillägg.
URL:https://overtorneaevenemang.se/evenemang/hostlopet/
LOCATION:Isovaara elljusspår
ATTACH;FMTTYPE=image/jpeg:https://overtorneaevenemang.se/wp-content/uploads/2019/05/action-active-activity-2083500-scaled.jpg
ORGANIZER;CN="Korpen %C3%96vertorne%C3%A5":MAILTO:korpen.overtornea@telia.com
END:VEVENT
BEGIN:VEVENT
DTSTART;TZID=Europe/Stockholm:20190602T090000
DTEND;TZID=Europe/Stockholm:20190602T140000
DTSTAMP:20260422T130032
CREATED:20190531T213424Z
LAST-MODIFIED:20190531T213424Z
UID:10000073-1559466000-1559484000@overtorneaevenemang.se
SUMMARY:Polcirkeltrampet
DESCRIPTION:Alternativ 1: Start från Övertorneå Idrottsplan till Pello och på finska sidan tillbaka till Övertorneå. 11mil. \nAlternativ 2: Cykling till Juoksengi och tillbaka. 5 mil. \nAlternativ 3: Längs gamla Ruskolavägen. 1 mil. \nKontroller 11 mils loppet 4 st. och 5 mils 2 stycken. \nStartavgifter: 11 mils loppet 300kr och 5 mils loppet 200 kr.\nUpplysningar: 0927—77111 (kl. 8—14) \nBananer och vätska vid kontroller\nMat vid målgång ingår i startavgiften \nLILLA TRAMPET\nFrån IP längs Gamla Ruskolavägen 1 mil (tur och retur)\n1 vätskekontroll\nAvgift: 100 kr/person\n200kr/ familj!\nUng som gammal= alla platsar!
URL:https://overtorneaevenemang.se/evenemang/polcirkeltrampet/
LOCATION:Övertorneå idrottsplats\, Idrottspaviljongen 3\, Övertorneå\, 957 32
CATEGORIES:Idrott
ATTACH;FMTTYPE=image/jpeg:https://overtorneaevenemang.se/wp-content/uploads/2019/05/bicycle-cables-design-1081031-scaled.jpg
ORGANIZER;CN="Korpen %C3%96vertorne%C3%A5":MAILTO:korpen.overtornea@telia.com
END:VEVENT
END:VCALENDAR