BEGIN:VCALENDAR
VERSION:2.0
PRODID:-//Övertorneå evenemang - ECPv6.15.1.1//NONSGML v1.0//EN
CALSCALE:GREGORIAN
METHOD:PUBLISH
X-WR-CALNAME:Övertorneå evenemang
X-ORIGINAL-URL:https://overtorneaevenemang.se
X-WR-CALDESC:Händelser för Övertorneå evenemang
REFRESH-INTERVAL;VALUE=DURATION:PT1H
X-Robots-Tag:noindex
X-PUBLISHED-TTL:PT1H
BEGIN:VTIMEZONE
TZID:Europe/Stockholm
BEGIN:DAYLIGHT
TZOFFSETFROM:+0100
TZOFFSETTO:+0200
TZNAME:CEST
DTSTART:20260329T010000
END:DAYLIGHT
BEGIN:STANDARD
TZOFFSETFROM:+0200
TZOFFSETTO:+0100
TZNAME:CET
DTSTART:20261025T010000
END:STANDARD
END:VTIMEZONE
BEGIN:VEVENT
DTSTART;VALUE=DATE:20260410
DTEND;VALUE=DATE:20260413
DTSTAMP:20260422T211547
CREATED:20260327T124820Z
LAST-MODIFIED:20260327T124820Z
UID:10001463-1775779200-1776038399@overtorneaevenemang.se
SUMMARY:Trumbyggarkurs
DESCRIPTION:Vi gör en Shamantrumma \,ramtrumma av björk och trummskin av ren.info anmälan Laponiaherbs:Torsten 0702797995
URL:https://overtorneaevenemang.se/evenemang/trumbyggarkurs/
CATEGORIES:Öppet för alla
ATTACH;FMTTYPE=image/jpeg:https://overtorneaevenemang.se/wp-content/uploads/2026/03/3255.jpg
ORGANIZER;CN="Laponiaherbs":MAILTO:aigia@hotmail.com
END:VEVENT
END:VCALENDAR