BEGIN:VCALENDAR
VERSION:2.0
PRODID:-//Övertorneå evenemang - ECPv6.15.1.1//NONSGML v1.0//EN
CALSCALE:GREGORIAN
METHOD:PUBLISH
X-ORIGINAL-URL:https://overtorneaevenemang.se
X-WR-CALDESC:Händelser för Övertorneå evenemang
REFRESH-INTERVAL;VALUE=DURATION:PT1H
X-Robots-Tag:noindex
X-PUBLISHED-TTL:PT1H
BEGIN:VTIMEZONE
TZID:Europe/Stockholm
BEGIN:DAYLIGHT
TZOFFSETFROM:+0100
TZOFFSETTO:+0200
TZNAME:CEST
DTSTART:20260329T010000
END:DAYLIGHT
BEGIN:STANDARD
TZOFFSETFROM:+0200
TZOFFSETTO:+0100
TZNAME:CET
DTSTART:20261025T010000
END:STANDARD
END:VTIMEZONE
BEGIN:VEVENT
DTSTART;TZID=Europe/Stockholm:20260414T180000
DTEND;TZID=Europe/Stockholm:20260414T190000
DTSTAMP:20260425T152020
CREATED:20260127T114011Z
LAST-MODIFIED:20260127T114011Z
UID:10001400-1776189600-1776193200@overtorneaevenemang.se
SUMMARY:Föredrag: Utgrävningarna vid Hietaniemi kyrka
DESCRIPTION:Efter branden som ödelade Hietamiemi träkyrka hösten 2023 har platsen blivit föremål för omfattande arkeologiska undersökningar. Dessa har gett en unik inblick i kyrkobygge och begravningsritualer i Tornedalen under 1600- och 1700-talen. \nDå Övertorneå församling har planer på att bygga en ny kyrka på samma plats som den nedbrunna\, har arkeologer vid Statens historiska museer under sommaren och hösten 2025 genomfört arkeologiska undersökningar på platsen\, i samarbete med arkeologer från Norrbottens museum. \nUndersökningarna har resulterat i ett omfattande och mångfacetterat material som genom fortsatta analyser kommer att bidra till ökad kunskap om Tornedalens historia under 1600- och 1700-talen. Bland resultaten finns dokumentation av cirka 20 gravkammare\, omkring 30 intakta gravar samt ett betydande antal omrörda gravar. \nAnnika Nordström\, projektledare vid Statens historiska museer\, presenterar de preliminära resultaten från undersökningen. \nVälkommen!
URL:https://overtorneaevenemang.se/evenemang/foredrag-utgravningarna-vid-hietaniemi-kyrka/
LOCATION:Folkets hus Övertorneå\, Industrivägen 3\, Övertorneå\, 95732\, Sverige
CATEGORIES:Öppet för alla
ATTACH;FMTTYPE=image/jpeg:https://overtorneaevenemang.se/wp-content/uploads/2026/01/Hietaniemi-kyrka_foto-Jennie-Sjoholm_1920x1440.jpg
ORGANIZER;CN="Norrbottens museum":MAILTO:norrbottens.museum@norrbotten.se
END:VEVENT
END:VCALENDAR