BEGIN:VCALENDAR
VERSION:2.0
PRODID:-//Övertorneå evenemang - ECPv6.15.1.1//NONSGML v1.0//EN
CALSCALE:GREGORIAN
METHOD:PUBLISH
X-WR-CALNAME:Övertorneå evenemang
X-ORIGINAL-URL:https://overtorneaevenemang.se
X-WR-CALDESC:Händelser för Övertorneå evenemang
REFRESH-INTERVAL;VALUE=DURATION:PT1H
X-Robots-Tag:noindex
X-PUBLISHED-TTL:PT1H
BEGIN:VTIMEZONE
TZID:Europe/Stockholm
BEGIN:DAYLIGHT
TZOFFSETFROM:+0100
TZOFFSETTO:+0200
TZNAME:CEST
DTSTART:20190331T010000
END:DAYLIGHT
BEGIN:STANDARD
TZOFFSETFROM:+0200
TZOFFSETTO:+0100
TZNAME:CET
DTSTART:20191027T010000
END:STANDARD
BEGIN:DAYLIGHT
TZOFFSETFROM:+0100
TZOFFSETTO:+0200
TZNAME:CEST
DTSTART:20200329T010000
END:DAYLIGHT
BEGIN:STANDARD
TZOFFSETFROM:+0200
TZOFFSETTO:+0100
TZNAME:CET
DTSTART:20201025T010000
END:STANDARD
BEGIN:DAYLIGHT
TZOFFSETFROM:+0100
TZOFFSETTO:+0200
TZNAME:CEST
DTSTART:20210328T010000
END:DAYLIGHT
BEGIN:STANDARD
TZOFFSETFROM:+0200
TZOFFSETTO:+0100
TZNAME:CET
DTSTART:20211031T010000
END:STANDARD
END:VTIMEZONE
BEGIN:VEVENT
DTSTART;TZID=Europe/Stockholm:20210101T080000
DTEND;TZID=Europe/Stockholm:20210101T170000
DTSTAMP:20260422T135426
CREATED:20210101T230138Z
LAST-MODIFIED:20210101T230138Z
UID:10000164-1609488000-1609520400@overtorneaevenemang.se
SUMMARY:where can i purchase viagra online afshbcecomydaykqnes
DESCRIPTION:viagra super force viagra trial voucher viagra cheap fast shipping
URL:https://overtorneaevenemang.se/evenemang/where-can-i-purchase-viagra-online-afshbcecomydaykqnes/
LOCATION:Tornedalens Folkhögskola (aula/gymnastiksal)
END:VEVENT
BEGIN:VEVENT
DTSTART;TZID=Europe/Stockholm:20190916T090000
DTEND;TZID=Europe/Stockholm:20190922T140000
DTSTAMP:20260422T135426
CREATED:20190531T230213Z
LAST-MODIFIED:20190531T230213Z
UID:10000079-1568624400-1569160800@overtorneaevenemang.se
SUMMARY:Konstutställning med Edgar Krypsjös alster
DESCRIPTION:ndet
URL:https://overtorneaevenemang.se/evenemang/konstutstallning-med-edgar-krypsjos-alster/
LOCATION:Studieförbundet vuxenskolan\, Matarengivägen 18 D\, Övertorneå\, 95731
CATEGORIES:Kultur
ATTACH;FMTTYPE=image/jpeg:https://overtorneaevenemang.se/wp-content/uploads/2019/06/img_2369-e1503405625525.jpg
END:VEVENT
BEGIN:VEVENT
DTSTART;TZID=Europe/Stockholm:20190621T140000
DTEND;TZID=Europe/Stockholm:20190621T160000
DTSTAMP:20260422T135426
CREATED:20190531T225222Z
LAST-MODIFIED:20190531T225358Z
UID:10000077-1561125600-1561132800@overtorneaevenemang.se
SUMMARY:Midsommarfirande på Aunesgården
DESCRIPTION:Laxsoppa och fika säljes. Övertorneå Dragspelsklubb underhåller.
URL:https://overtorneaevenemang.se/evenemang/midsommarfirande-pa-aunesgarden/
LOCATION:Aunesgården\, Matarengivägen 60\, Övertorneå\, 95732\, Sverige
ATTACH;FMTTYPE=image/jpeg:https://overtorneaevenemang.se/wp-content/uploads/2019/06/Aunesgården-1-1.jpg
END:VEVENT
END:VCALENDAR