BEGIN:VCALENDAR
VERSION:2.0
PRODID:-//Övertorneå evenemang - ECPv6.15.1.1//NONSGML v1.0//EN
CALSCALE:GREGORIAN
METHOD:PUBLISH
X-WR-CALNAME:Övertorneå evenemang
X-ORIGINAL-URL:https://overtorneaevenemang.se
X-WR-CALDESC:Händelser för Övertorneå evenemang
REFRESH-INTERVAL;VALUE=DURATION:PT1H
X-Robots-Tag:noindex
X-PUBLISHED-TTL:PT1H
BEGIN:VTIMEZONE
TZID:Europe/Stockholm
BEGIN:DAYLIGHT
TZOFFSETFROM:+0100
TZOFFSETTO:+0200
TZNAME:CEST
DTSTART:20260329T010000
END:DAYLIGHT
BEGIN:STANDARD
TZOFFSETFROM:+0200
TZOFFSETTO:+0100
TZNAME:CET
DTSTART:20261025T010000
END:STANDARD
END:VTIMEZONE
BEGIN:VEVENT
DTSTART;TZID=Europe/Stockholm:20260513T190000
DTEND;TZID=Europe/Stockholm:20260513T210000
DTSTAMP:20260421T123200
CREATED:20260317T132705Z
LAST-MODIFIED:20260317T132705Z
UID:10001460-1778698800-1778706000@overtorneaevenemang.se
SUMMARY:BIO: MORTAL KOMBAT 2
DESCRIPTION:Onsdag 13 maj\nkl. 19.00\nGenre: Action\nFrån 15 år\nLängd: 1 tim 55 min\nEntré 100 kr \nFilminformation\n“Mortal Kombat II” – nya filmen baserat på det storsäljande och brutala videospelet. \nDen här gången ställs fansens favorithjältar – nu tillsammans med Johnny Cage själv – mot varandra i den ultimata\, och fullständigt skoningslösa\, blodiga kampen för att besegra Shao Kahns mörka härskande som hotar själva existensen av Earthrealm och dess försvarare. \nI rollerna\nKarl Urban\, Adeline Rudolph\, Jessica McNamee\, Josh Lawson\, Ludi Lin\, Mehcad Brooks\, Tati Gabrielle\, Lewis Tan\, Damon Herriman\, Chin Han\, Tadanobu Asano\, Joe Taslim\, Hiroyuki Sanada. \nRegi – Simon McQuoid
URL:https://overtorneaevenemang.se/evenemang/bio-mortal-kombat-2/
LOCATION:Folkets hus Övertorneå\, Industrivägen 3\, Övertorneå\, 95732\, Sverige
CATEGORIES:Öppet för alla
ATTACH;FMTTYPE=image/jpeg:https://overtorneaevenemang.se/wp-content/uploads/2026/03/Mortal_Kombat_II_Poster_2026.jpg
ORGANIZER;CN="Folkets hus &Ouml%3Bvertorne&aring%3B":MAILTO:info@folketshus.info
END:VEVENT
END:VCALENDAR