BEGIN:VCALENDAR
VERSION:2.0
PRODID:-//Övertorneå evenemang - ECPv6.15.1.1//NONSGML v1.0//EN
CALSCALE:GREGORIAN
METHOD:PUBLISH
X-ORIGINAL-URL:https://overtorneaevenemang.se
X-WR-CALDESC:Händelser för Övertorneå evenemang
REFRESH-INTERVAL;VALUE=DURATION:PT1H
X-Robots-Tag:noindex
X-PUBLISHED-TTL:PT1H
BEGIN:VTIMEZONE
TZID:Europe/Stockholm
BEGIN:DAYLIGHT
TZOFFSETFROM:+0100
TZOFFSETTO:+0200
TZNAME:CEST
DTSTART:20240331T010000
END:DAYLIGHT
BEGIN:STANDARD
TZOFFSETFROM:+0200
TZOFFSETTO:+0100
TZNAME:CET
DTSTART:20241027T010000
END:STANDARD
END:VTIMEZONE
BEGIN:VEVENT
DTSTART;TZID=Europe/Stockholm:20240807T140000
DTEND;TZID=Europe/Stockholm:20240807T160000
DTSTAMP:20260421T230651
CREATED:20240729T062558Z
LAST-MODIFIED:20240729T062558Z
UID:10001029-1723039200-1723046400@overtorneaevenemang.se
SUMMARY:Sommarlovsteater med Ung Scen Norr
DESCRIPTION:Den 7 augusti kommer Ung Scen Norr till Övertorneå\, Röda Kvarn\, med en teaterworkshop för barn i åldrarna 9-12 år\, den pågår mellan kl 14:00-16:00. Under våra workshops får deltagarna prova en mix av drama- och teaterövningar. \nKom som du är! Inga förkunskaper krävs.\nBra att ha med sig: bekväma kläder och en vattenflaska.  \nBegränsat antal platser så först till kvarn!\nAnmälan görs till malin.falk@norrbottensteatern.se senast måndagen den 5 augusti.
URL:https://overtorneaevenemang.se/evenemang/sommarlovsteater-med-ung-scen-norr/
LOCATION:Röda Kvarn i Övertorneå\, Matarengivägen 16\, Övertorneå\, 957 31
CATEGORIES:För barn,Kultur
ATTACH;FMTTYPE=image/jpeg:https://overtorneaevenemang.se/wp-content/uploads/2024/07/usn-workshops-1920x1080_02.jpg
ORGANIZER;CN="Norrbottensteatern%2C Ung Scen Norr":MAILTO:malin.falk@norrbottensteatern.se
END:VEVENT
BEGIN:VEVENT
DTSTART;TZID=Europe/Stockholm:20240811T140000
DTEND;TZID=Europe/Stockholm:20240811T170000
DTSTAMP:20260421T230651
CREATED:20240807T102844Z
LAST-MODIFIED:20240807T102844Z
UID:10001031-1723384800-1723395600@overtorneaevenemang.se
SUMMARY:BILBINGO AAPUA
DESCRIPTION:BILBINGO AAPUA\nSöndag 11/8\nkl.14.00\nToppvinst:\n 20.000:-\nMINIBINGO \nFacebook: Bilbingo Aapua\, Instagram: bilbingoaapua \nFörsäljning Hamburgare\, Café.\nBetalning med swish eller kontanter (SEK/EURO)\nByabutiken/Kylänkauppa är öppen 12.30-14.00\nVälkomna! / Aapua Idrottsförening
URL:https://overtorneaevenemang.se/evenemang/bilbingo-aapua-5/
ATTACH;FMTTYPE=image/jpeg:https://overtorneaevenemang.se/wp-content/uploads/2024/08/IMG_20240806_072151_608-scaled.jpg
END:VEVENT
BEGIN:VEVENT
DTSTART;TZID=Europe/Stockholm:20240814T130000
DTEND;TZID=Europe/Stockholm:20240814T140000
DTSTAMP:20260421T230651
CREATED:20240806T095741Z
LAST-MODIFIED:20240806T095741Z
UID:10001030-1723640400-1723644000@overtorneaevenemang.se
SUMMARY:Meänkielinen porinakerho Pohjoskalottipipluteekissä
DESCRIPTION:Tule porisehmaan meänkielelä! Met keitämä kahvit.\nKom och prata meänkieli med oss! Vi bjuder på kaffe.
URL:https://overtorneaevenemang.se/evenemang/meankielinen-porinakerho-pohjoskalottipipluteekissa-5/
LOCATION:Nordkalottbiblioteket\, Matarengivägen 24i
ATTACH;FMTTYPE=image/png:https://overtorneaevenemang.se/wp-content/uploads/2024/08/porinakerho08.png
END:VEVENT
BEGIN:VEVENT
DTSTART;TZID=Europe/Stockholm:20240814T190000
DTEND;TZID=Europe/Stockholm:20240814T220000
DTSTAMP:20260421T230651
CREATED:20240611T120945Z
LAST-MODIFIED:20240814T165850Z
UID:10000946-1723662000-1723672800@overtorneaevenemang.se
SUMMARY:DEADPOOL & WOLLVERINE
DESCRIPTION:OBS! ingen film ikväll onsdag 14 augusti på grund av tekniskt fel. Kommer och visas vid senare tillfälle
URL:https://overtorneaevenemang.se/evenemang/deatpool-wollverine/
LOCATION:Folkets hus Övertorneå\, Industrivägen 3\, Övertorneå\, 95732\, Sverige
ATTACH;FMTTYPE=image/jpeg:https://overtorneaevenemang.se/wp-content/uploads/2024/06/dp3_teaser_poster_se-scaled.jpg
ORGANIZER;CN="Folkets hus &Ouml%3Bvertorne&aring%3B":MAILTO:info@folketshus.info
END:VEVENT
BEGIN:VEVENT
DTSTART;TZID=Europe/Stockholm:20240817T110000
DTEND;TZID=Europe/Stockholm:20240817T140000
DTSTAMP:20260421T230651
CREATED:20240814T105230Z
LAST-MODIFIED:20240814T105230Z
UID:10001035-1723892400-1723903200@overtorneaevenemang.se
SUMMARY:Öppet hus på stallet
DESCRIPTION:Öppet hus för hela familjen. Lördag 17/8 kl 11-14. Fika och varmkorvsförsäljning.
URL:https://overtorneaevenemang.se/evenemang/oppet-hus-pa-stallet/
CATEGORIES:Familjeaktivitet,För barn,Idrott
ATTACH;FMTTYPE=image/png:https://overtorneaevenemang.se/wp-content/uploads/2024/08/1000011084-1.png
END:VEVENT
BEGIN:VEVENT
DTSTART;TZID=Europe/Stockholm:20240817T120000
DTEND;TZID=Europe/Stockholm:20240817T200000
DTSTAMP:20260421T230651
CREATED:20240612T065954Z
LAST-MODIFIED:20240612T065954Z
UID:10000951-1723896000-1723924800@overtorneaevenemang.se
SUMMARY:Nationalälvdagen i Svanstein
DESCRIPTION:Nationalälvsfirande 17 augusti i Svanstein \n– Gudstjänst kl. 12.00\, Brukstorpet\n– Badstranden kl.18.30:\n              båtkonvojer\n              facklor\,\n              Dragspelsmusik av riksspelman Fredrik Hangasjärvi och Heidi Haapasaari
URL:https://overtorneaevenemang.se/evenemang/nationalalvdagen-i-svanstein/
LOCATION:Svanstein\, Svanstein\, 95794\, Övertorneå
ATTACH;FMTTYPE=image/jpeg:https://overtorneaevenemang.se/wp-content/uploads/2024/06/DJI_0036-scaled.jpg
END:VEVENT
BEGIN:VEVENT
DTSTART;TZID=Europe/Stockholm:20240818T130000
DTEND;TZID=Europe/Stockholm:20240818T150000
DTSTAMP:20260421T230651
CREATED:20240611T120807Z
LAST-MODIFIED:20240814T170055Z
UID:10000945-1723986000-1723993200@overtorneaevenemang.se
SUMMARY:INSIDAN UT 2
DESCRIPTION:OBS! Ingen film på söndag 18 augusti på grund av tekniskt fel. Kommer att visas vid senare tillfälle
URL:https://overtorneaevenemang.se/evenemang/insidan-ut-2/
LOCATION:Folkets hus Övertorneå\, Industrivägen 3\, Övertorneå\, 95732\, Sverige
ATTACH;FMTTYPE=image/jpeg:https://overtorneaevenemang.se/wp-content/uploads/2024/06/io2_payoff_poster_a4_se_72dpi.jpg
ORGANIZER;CN="Folkets hus &Ouml%3Bvertorne&aring%3B":MAILTO:info@folketshus.info
END:VEVENT
BEGIN:VEVENT
DTSTART;TZID=Europe/Stockholm:20240818T140000
DTEND;TZID=Europe/Stockholm:20240818T170000
DTSTAMP:20260421T230651
CREATED:20240813T081638Z
LAST-MODIFIED:20240813T081638Z
UID:10001033-1723989600-1724000400@overtorneaevenemang.se
SUMMARY:BILBINGO AAPUA
DESCRIPTION:FINAL\nBILBINGO AAPUA\nSöndag 18/8\nkl.14.00\nToppvinst:\n 20.000:-\nMINIBINGO \nFacebook: Bilbingo Aapua\, Instagram: bilbingoaapua\nFörsäljning Hamburgare\, Café.\nBetalning med swish eller kontanter (SEK/EURO)\nByabutiken/Kylänkauppa är öppen 12.30-14.00\nVälkomna! / Aapua Idrottsförening
URL:https://overtorneaevenemang.se/evenemang/bilbingo-aapua-6/
LOCATION:Aapua\, Övertorneå\, 957 94
ATTACH;FMTTYPE=image/jpeg:https://overtorneaevenemang.se/wp-content/uploads/2024/08/20240812_172518-1-scaled.jpg
END:VEVENT
BEGIN:VEVENT
DTSTART;TZID=Europe/Stockholm:20240826T080000
DTEND;TZID=Europe/Stockholm:20240913T140000
DTSTAMP:20260421T230651
CREATED:20240813T110341Z
LAST-MODIFIED:20240813T110341Z
UID:10001034-1724659200-1726236000@overtorneaevenemang.se
SUMMARY:KONSTUTSTÄLLNING - ALICE ALDRIDGE
DESCRIPTION:Alice Aldridge\, ursprungligen från England\, ställer ut sin konst på Tornedalens Folkhögskola \n‘Jag heter Alice Aldridge\, en 24 år gammal konstnär ursprungligen från England. Mina målningar är baserade på min kärlek till naturen och djurlivet. Jag har arbetat som professionell konstnär i 4 år. Jag gör lite av allt\, inklusive skrivomslag för musik\, husdjurs porträtt och barnbok illustration.’ \nAlla är hjärtligt välkomna att besöka utställningen under följande datum:\n26/8– 13/9 \nUtställning i huvudbyggnaden\, Matarengivägen 24G\, dagtid\, vardagar.\nFri Entré
URL:https://overtorneaevenemang.se/evenemang/konstutstallning-alice-aldridge-2/
LOCATION:Tornedalens Folkhögskola\, Matarengivägen 24G\, Övertorneå\, 95731
ATTACH;FMTTYPE=image/png:https://overtorneaevenemang.se/wp-content/uploads/2024/08/Alice-Aldridge-8.png
ORGANIZER;CN="Tornedalens folkh%C3%B6gskola":MAILTO:info@tornedalen.se
END:VEVENT
BEGIN:VEVENT
DTSTART;TZID=Europe/Stockholm:20240902T090000
DTEND;TZID=Europe/Stockholm:20240928T140000
DTSTAMP:20260421T230651
CREATED:20240812T084708Z
LAST-MODIFIED:20240812T084708Z
UID:10001032-1725267600-1727532000@overtorneaevenemang.se
SUMMARY:Demokratiutställning
DESCRIPTION:Varmt välkomna till utställningen Demokrati finns inte – Vi gör den! Utställningen kommer finnas tillgänglig på Tornedalens bibliotek under bibliotekets öppettider från den 2 september till den 28 september. Under utställningen kan du ta del av människors engagemang världen över och fundera över ditt eget engagemang och ta ställning. Utställningen är öppen för alla. \nDemokratiskt engagemang kan komma i många former och se ut på flera olika vis. I utställningen möter du människors personliga demokratiberättelser och föremål som en serie nedslag i tid och rum. Varje person har fått välja ut ett föremål som för just dem symboliserar demokratiskt engagemang. \nUtställningen utgår ifrån forskning från Varieties of Democracy\, vid Göteborgs universitet. I detta världsledande forskningsprogram mäts demokratisk utveckling i världen. Utställningen omsätter sedan forskningen till fem olika demokratiska ideal; rättvisa val\, frihet\, jämlikhet\, öppenhet samt deltagande. \nDemokrati finns inte – vi gör den! riktar sig till en bred allmänhet men är också en del av en större demokratisatsning för skolan. Utställningen är producerad med stöd från Riksantikvarieämbetet och i samarbete med Varieties of Democracy och European Alternatives.
URL:https://overtorneaevenemang.se/evenemang/demokratiutstallning/
LOCATION:Tornedalens Bibliotek\, Skolvägen 17\, Övertorneå\, 95785
CATEGORIES:Kultur
ATTACH;FMTTYPE=image/jpeg:https://overtorneaevenemang.se/wp-content/uploads/2024/08/demokrati-finns-inte-hero.jpg
END:VEVENT
BEGIN:VEVENT
DTSTART;TZID=Europe/Stockholm:20240902T123000
DTEND;TZID=Europe/Stockholm:20240903T120000
DTSTAMP:20260421T230651
CREATED:20240819T080144Z
LAST-MODIFIED:20240819T080144Z
UID:10001036-1725280200-1725364800@overtorneaevenemang.se
SUMMARY:Workshop med fokus på lönsamhet
DESCRIPTION:Vill du förbättra företagets lönsamhet? Tycker du att ekonomiska rapporter och nyckeltal är svåra att förstå? \nFå inblick i vad som driver företags lönsamhet och tillväxt och få större insikt om företagsekonomiska begrepp på ett visuellt och pedagogiskt sätt. Få tillgång till olika verktyg och kunskap som kan hjälpa ditt företag till ökad lönsamhet.\nIdentifiera dina viktigaste hållbarhetsområden och se hur de kan bidra till din affär (detta är också ett krav att ha genomgått för att kunna söka investerings- och företagsstöd framöver). \nTillval: Möjlighet till individuell affärsrådgivning tillsammans med en Almirådgivare. \nTid och plats\nMåndag 2/9 kl. 12:30 – 16:00\nTisdag 3/9 kl. 8:30 – 12:00 \nPlats: Kommunhuset Övertorneå \nWorkshopen (4:e gången i Övertorneå) vänder sig till dig som äger och arbetar heltid i ditt företag. Minst ett bokslut.\nKostnadsfritt. \nAnmäl dig senast torsdag 22/8 till\nida.brannstrom@overtornea.se \nBegränsat antal platser. Finns 2 platser kvar.
URL:https://overtorneaevenemang.se/evenemang/workshop-med-fokus-pa-lonsamhet/
LOCATION:Kommunhuset\, Stora sammanträdesrummet\, Övertorneå
ATTACH;FMTTYPE=image/jpeg:https://overtorneaevenemang.se/wp-content/uploads/2024/08/workshop-sept-2024.jpg
END:VEVENT
BEGIN:VEVENT
DTSTART;TZID=Europe/Stockholm:20240911T080000
DTEND;TZID=Europe/Stockholm:20240925T170000
DTSTAMP:20260421T230651
CREATED:20240904T095000Z
LAST-MODIFIED:20240904T095000Z
UID:10001050-1726041600-1727283600@overtorneaevenemang.se
SUMMARY:Meänkielinen porinakerho Pohjoskalottipipluteekissä
DESCRIPTION:Tule puhuhmaan meänkieltä Pohjoskalottipipluteekissä! Met keitämä kahvit.\nKom och prata meänkieli med oss! Vi bjuder på kaffe.
URL:https://overtorneaevenemang.se/evenemang/meankielinen-porinakerho-pohjoskalottipipluteekissa-6/
LOCATION:Nordkalottbiblioteket\, Matarengivägen 24i
ATTACH;FMTTYPE=image/png:https://overtorneaevenemang.se/wp-content/uploads/2024/09/thumbnail_porinakerho-syyskuu.png
END:VEVENT
BEGIN:VEVENT
DTSTART;TZID=Europe/Stockholm:20240916T190000
DTEND;TZID=Europe/Stockholm:20240916T203900
DTSTAMP:20260421T230651
CREATED:20240912T120837Z
LAST-MODIFIED:20240912T120837Z
UID:10001052-1726513200-1726519140@overtorneaevenemang.se
SUMMARY:BIO: MISÈRIA
DESCRIPTION:Måndag 16 september kl 19.00  Från 15 år  Genre: Drama\, action crime Längd: 1 tim 39 min Entré 100 kr
URL:https://overtorneaevenemang.se/evenemang/bio-miseria/
LOCATION:Folkets hus Övertorneå\, Industrivägen 3\, Övertorneå\, 95732\, Sverige
ATTACH;FMTTYPE=image/jpeg:https://overtorneaevenemang.se/wp-content/uploads/2024/09/Miseria.jpg
ORGANIZER;CN="Folkets hus &Ouml%3Bvertorne&aring%3B":MAILTO:info@folketshus.info
END:VEVENT
BEGIN:VEVENT
DTSTART;TZID=Europe/Stockholm:20240918T093000
DTEND;TZID=Europe/Stockholm:20240918T100000
DTSTAMP:20260421T230651
CREATED:20240821T073407Z
LAST-MODIFIED:20240821T081713Z
UID:10001038-1726651800-1726653600@overtorneaevenemang.se
SUMMARY:Babybabbel på Familjecentralen
DESCRIPTION:Välkommen på Babybabbel med biblioteket på Familjecentralen!\nBabybabbel är en aktivitet för de minsta barnen och deras vuxna där vi upptäcker språket tillsammans. Vi läser pekböcker\, ramsor och sjunger. Babybabbel riktar sig främst till barn mellan 5-18 månader. Varje träff har fokus på ett speciellt tema.\nVi träffas klockan 9.30 -10.00\, fyra onsdagar i höst 18/9\, 16/10\, 13/11 och 11/12.  \nIngen föranmälan krävs.
URL:https://overtorneaevenemang.se/evenemang/babybabbel-pa-familjecentralen/
LOCATION:Familjens hus
CATEGORIES:För barn,Kultur
ATTACH;FMTTYPE=image/png:https://overtorneaevenemang.se/wp-content/uploads/2024/08/BABYBABBEL.png
END:VEVENT
BEGIN:VEVENT
DTSTART;TZID=Europe/Stockholm:20240919T190000
DTEND;TZID=Europe/Stockholm:20240919T204500
DTSTAMP:20260421T230651
CREATED:20240912T121525Z
LAST-MODIFIED:20240912T121525Z
UID:10001053-1726772400-1726778700@overtorneaevenemang.se
SUMMARY:BIO: BEETLEJUICE
DESCRIPTION:Torsdag 19 september kl 19.00  Från 11 år  Längd 1 tim 45 min  Entré 100kr
URL:https://overtorneaevenemang.se/evenemang/bio-beetlejuice/
LOCATION:Folkets hus Övertorneå\, Industrivägen 3\, Övertorneå\, 95732\, Sverige
ATTACH;FMTTYPE=image/jpeg:https://overtorneaevenemang.se/wp-content/uploads/2024/09/Beetlejuice.jpg
ORGANIZER;CN="Folkets hus &Ouml%3Bvertorne&aring%3B":MAILTO:info@folketshus.info
END:VEVENT
BEGIN:VEVENT
DTSTART;TZID=Europe/Stockholm:20240921T090000
DTEND;TZID=Europe/Stockholm:20240921T180000
DTSTAMP:20260421T230651
CREATED:20240829T075520Z
LAST-MODIFIED:20240903T085117Z
UID:10001048-1726909200-1726941600@overtorneaevenemang.se
SUMMARY:Konstresa till Rovaniemi
DESCRIPTION:Följ med och låt oss dyka in i en värld av kreativitet och inspiration.\nVi besöker 3 olika konsthallar och museer.
URL:https://overtorneaevenemang.se/evenemang/konstresa-till-rovaniemi/
CATEGORIES:Kultur
ATTACH;FMTTYPE=image/jpeg:https://overtorneaevenemang.se/wp-content/uploads/2024/08/skanna0028.jpg
END:VEVENT
BEGIN:VEVENT
DTSTART;TZID=Europe/Stockholm:20240921T103000
DTEND;TZID=Europe/Stockholm:20240921T110000
DTSTAMP:20260421T230651
CREATED:20240830T111950Z
LAST-MODIFIED:20240830T111950Z
UID:10001049-1726914600-1726916400@overtorneaevenemang.se
SUMMARY:Sagostund på biblioteket
DESCRIPTION:Anna-Karin berättar sagan om “Ritas svans” av Helena Koch & Sara Heldt.
URL:https://overtorneaevenemang.se/evenemang/sagostund-pa-biblioteket/
LOCATION:Tornedalens Bibliotek\, Skolvägen 17\, Övertorneå\, 95785
CATEGORIES:Familjeaktivitet,Idrott
ATTACH;FMTTYPE=image/jpeg:https://overtorneaevenemang.se/wp-content/uploads/2024/08/mouse-6278140_1280.jpg
END:VEVENT
BEGIN:VEVENT
DTSTART;TZID=Europe/Stockholm:20240923T180000
DTEND;TZID=Europe/Stockholm:20240923T193000
DTSTAMP:20260421T230651
CREATED:20240918T120603Z
LAST-MODIFIED:20240918T120603Z
UID:10001062-1727114400-1727119800@overtorneaevenemang.se
SUMMARY:Sköt dig själv! - Beredskapsföreläsning
DESCRIPTION:Föreläsningen Sköt dig själv! hålls av Ulla-Britt Kenttä från Lottakåren under beredskapsveckan vecka 39.\nFöreläsningen är gratis och hålls måndag 23 september\, kl. 18.00 -19.30 på Biblioteket i Övertorneå\, skolvägen 17. \nVad händer under kvällen?\n– Lisa Mörtlund\, beredskapssamordnare\, berättar om beredskapsveckan och kommunens arbete med krisberedskap.\n-Föreläsning Sköt dig själv! av Ulla-Britt Kenttä\, Lottakåren\n-Energikontor Norr: Matilda Rova berättar om energiberedskap.\n-Preppa tillsammans: ABF presenterar sin studiecirkel Preppa tillsammans
URL:https://overtorneaevenemang.se/evenemang/skot-dig-sjalv-beredskapsforelasning/
LOCATION:Tornedalens Bibliotek\, Skolvägen 17\, Övertorneå\, 95785
ATTACH;FMTTYPE=image/jpeg:https://overtorneaevenemang.se/wp-content/uploads/2024/09/skotdigsjalv.jpg
ORGANIZER;CN="%C3%96vertorne%C3%A5 kommun":MAILTO:kommun@overtornea.se
END:VEVENT
BEGIN:VEVENT
DTSTART;TZID=Europe/Stockholm:20240925T190000
DTEND;TZID=Europe/Stockholm:20240925T203800
DTSTAMP:20260421T230651
CREATED:20240912T122256Z
LAST-MODIFIED:20240912T122256Z
UID:10001054-1727290800-1727296680@overtorneaevenemang.se
SUMMARY:BIO: KVERULANTEN
DESCRIPTION:Onsdag 25 september kl 19  Från 7 år Genre: Drama\, komedi  Längd: 1 tim 38 min  Entré 100 kr
URL:https://overtorneaevenemang.se/evenemang/bio-kverulanten/
LOCATION:Folkets hus Övertorneå\, Industrivägen 3\, Övertorneå\, 95732\, Sverige
ATTACH;FMTTYPE=image/jpeg:https://overtorneaevenemang.se/wp-content/uploads/2024/09/Kverulanten.jpg
ORGANIZER;CN="Folkets hus &Ouml%3Bvertorne&aring%3B":MAILTO:info@folketshus.info
END:VEVENT
BEGIN:VEVENT
DTSTART;TZID=Europe/Stockholm:20240926T190000
DTEND;TZID=Europe/Stockholm:20240926T210700
DTSTAMP:20260421T230651
CREATED:20240912T123104Z
LAST-MODIFIED:20240912T123104Z
UID:10001055-1727377200-1727384820@overtorneaevenemang.se
SUMMARY:BIO: DEADPOOL
DESCRIPTION:Torsdag 26 september kl 19.00  Genre: Action Längd: 2 tim 7 min Från 15 år  Entré 100 kr
URL:https://overtorneaevenemang.se/evenemang/bio-deadpool/
LOCATION:Folkets hus Övertorneå\, Industrivägen 3\, Övertorneå\, 95732\, Sverige
ATTACH;FMTTYPE=image/jpeg:https://overtorneaevenemang.se/wp-content/uploads/2024/09/Deadpool.jpg
ORGANIZER;CN="Folkets hus &Ouml%3Bvertorne&aring%3B":MAILTO:info@folketshus.info
END:VEVENT
BEGIN:VEVENT
DTSTART;TZID=Europe/Stockholm:20240929T130000
DTEND;TZID=Europe/Stockholm:20240929T143600
DTSTAMP:20260421T230651
CREATED:20240912T123421Z
LAST-MODIFIED:20240912T123421Z
UID:10001056-1727614800-1727620560@overtorneaevenemang.se
SUMMARY:BIO: INSIDAN UT 2
DESCRIPTION:Söndag 29 September kl 13.00  Genre: Animerad familjefilm Längd: 1 tim 36 min Barntillåten Entré 80 kr
URL:https://overtorneaevenemang.se/evenemang/bio-insidan-ut-2/
LOCATION:Folkets hus Övertorneå\, Industrivägen 3\, Övertorneå\, 95732\, Sverige
ATTACH;FMTTYPE=image/jpeg:https://overtorneaevenemang.se/wp-content/uploads/2024/09/Insidan-ut-2.jpg
ORGANIZER;CN="Folkets hus &Ouml%3Bvertorne&aring%3B":MAILTO:info@folketshus.info
END:VEVENT
BEGIN:VEVENT
DTSTART;TZID=Europe/Stockholm:20241001T190000
DTEND;TZID=Europe/Stockholm:20241001T211000
DTSTAMP:20260421T230651
CREATED:20240912T123829Z
LAST-MODIFIED:20240912T123829Z
UID:10001057-1727809200-1727817000@overtorneaevenemang.se
SUMMARY:BIO: DET SLUTAR MED OSS
DESCRIPTION:Tisdag 1 Oktober kl 19.00  Genre: Drama\, romantik Längd: 2 tim 10 min Från: 11 år  Entré 100 kr
URL:https://overtorneaevenemang.se/evenemang/bio-det-slutar-med-oss/
LOCATION:Folkets hus Övertorneå\, Industrivägen 3\, Övertorneå\, 95732\, Sverige
ATTACH;FMTTYPE=image/jpeg:https://overtorneaevenemang.se/wp-content/uploads/2024/09/Det-slutar.jpg
ORGANIZER;CN="Folkets hus &Ouml%3Bvertorne&aring%3B":MAILTO:info@folketshus.info
END:VEVENT
BEGIN:VEVENT
DTSTART;TZID=Europe/Stockholm:20241003T190000
DTEND;TZID=Europe/Stockholm:20241003T205600
DTSTAMP:20260421T230651
CREATED:20240912T125006Z
LAST-MODIFIED:20240912T125006Z
UID:10001060-1727982000-1727988960@overtorneaevenemang.se
SUMMARY:BIO: THE BIKERIDERS
DESCRIPTION:Torsdag 3 Oktober kl 19.00  Genre: Drama\, crime  Längd: 1 tim 56 min  Från 15 år  Entré 100 kr
URL:https://overtorneaevenemang.se/evenemang/bio-the-bikeriders/
LOCATION:Folkets hus Övertorneå\, Industrivägen 3\, Övertorneå\, 95732\, Sverige
ATTACH;FMTTYPE=image/jpeg:https://overtorneaevenemang.se/wp-content/uploads/2024/09/bikeriders.jpg
ORGANIZER;CN="Folkets hus &Ouml%3Bvertorne&aring%3B":MAILTO:info@folketshus.info
END:VEVENT
BEGIN:VEVENT
DTSTART;TZID=Europe/Stockholm:20241005T100000
DTEND;TZID=Europe/Stockholm:20241005T140000
DTSTAMP:20260421T230651
CREATED:20240920T082719Z
LAST-MODIFIED:20240920T082719Z
UID:10001064-1728122400-1728136800@overtorneaevenemang.se
SUMMARY:Struvedag på biblioteket
DESCRIPTION:Biblioteket uppmärksammar kommunens världsarv!\nKom och testa en kort e-utbildning om Struves meridianbåge. Under dagen kan du delta i en utlottning av t-shirts och linjaler. \nDrop-in: Lördag 5 oktober\, kl.10-14
URL:https://overtorneaevenemang.se/evenemang/struvedag-pa-biblioteket/
LOCATION:Tornedalens Bibliotek\, Skolvägen 17\, Övertorneå\, 95785
ATTACH;FMTTYPE=image/png:https://overtorneaevenemang.se/wp-content/uploads/2024/09/Struve_visitkort.png
END:VEVENT
BEGIN:VEVENT
DTSTART;TZID=Europe/Stockholm:20241006T190000
DTEND;TZID=Europe/Stockholm:20241006T200000
DTSTAMP:20260421T230651
CREATED:20240918T093424Z
LAST-MODIFIED:20240918T122611Z
UID:10001061-1728241200-1728244800@overtorneaevenemang.se
SUMMARY:Moving Norrbotten - Övertorneå
DESCRIPTION:Välkommen till en livsbejakande föreställning med kubanska dansare!\nDans i Nords regionala turné Moving Norrbotten presenterar Playground\, en helt ny dansföreställning som samproducerats av Dans i Nord\, Memory Wax och kubanska Danza Teatro Retazos. \nPlayground är en livsbejakande dansföreställning som utforskar gruppens dynamik och lekens betydelse. Vad händer när rollerna förändras och när blir leken allvar? Playground anspelar på lekens viktiga betydelse i livets alla skeenden. \nFöreställningen ingår i turnén Moving Norrbotten\, som når publiken i Norrbottens samtliga 14 kommuner.\nMissa inte chansen att uppleva något nytt och spännande! \nFri entré.\nLäs mer och säkra dina biljetter nu!\nhttps://dansinord.se/forestallningar/memory-wax-playground/overtornea-5/
URL:https://overtorneaevenemang.se/evenemang/moving-norrbotten-overtornea/
LOCATION:Folkets hus Övertorneå\, Industrivägen 3\, Övertorneå\, 95732\, Sverige
CATEGORIES:Kultur
ATTACH;FMTTYPE=image/jpeg:https://overtorneaevenemang.se/wp-content/uploads/2024/09/Overtornea_MN_FB_Inlagg_940x788px_UtanKommun.jpg
END:VEVENT
BEGIN:VEVENT
DTSTART;TZID=Europe/Stockholm:20241009T180000
DTEND;TZID=Europe/Stockholm:20241009T190000
DTSTAMP:20260421T230651
CREATED:20240925T090958Z
LAST-MODIFIED:20240925T090958Z
UID:10001066-1728496800-1728500400@overtorneaevenemang.se
SUMMARY:Trygghetsvandring i Svanstein
DESCRIPTION:Efter önskemål genomför vi detta år en trygghetsvandring i Svanstein \nOnsdag 9 oktober 18:00-19:00 \nSamling utanför Svanstein skola diamanten. \nVi ser gärna att medborgare i alla åldersgrupper kommer dit. Tillsammans tittar vi på olika platser och diskuterar hur ni ser på trygghetsfrågor. \nIngen anmälan krävs. \nKontaktperson Anna Kommes\, Agendasamordnare\nanna.kommes@overtornea.se 0927-720 00 \nVarmt välkomna!
URL:https://overtorneaevenemang.se/evenemang/trygghetsvandring-i-svanstein/
LOCATION:Svanstein skola Diamanten\, Svanstein 76\, Svanstein\, 95794
ATTACH;FMTTYPE=image/png:https://overtorneaevenemang.se/wp-content/uploads/2024/09/trygghetsvandring-svanstein.png
ORGANIZER;CN="%C3%96vertorne%C3%A5 kommun":MAILTO:kommun@overtornea.se
END:VEVENT
BEGIN:VEVENT
DTSTART;TZID=Europe/Stockholm:20241011T103000
DTEND;TZID=Europe/Stockholm:20241011T123000
DTSTAMP:20260421T230651
CREATED:20240920T085007Z
LAST-MODIFIED:20240920T085007Z
UID:10001065-1728642600-1728649800@overtorneaevenemang.se
SUMMARY:AI + Tänk säkert & agera smart på nätet
DESCRIPTION:Användningen av AI ökar i samhället. Med det kommer nya möjligheter\, men också nya utmaningar. Bedrägerierna blir alltmer komplexa och många förknippar handeln på nätet med oro och många risker. Så hur gör vi för att undvika att bli lurade? Och hur kan vi dra nytta av den nya tekniken? \nVälkommen att se föreläsningar tillsammans med oss som gör dig till en säkrare och mer medveten internetanvändare.  \nVar med och:\n-lär dig hur du undviker bedrägerier\n-få tips om hur du e-handlar säkrare och smartare\n-upptäck hur du kommer i gång med AI och hur du kan bli en positiv kraft på sociala medier. \nSe programmet i sin helhet: https://internetstiftelsen.se/kunskap/for-alla/anmalan-tank-sakert-och-agera-smart/#program\nHar du inte möjlighet att komma till biblioteket se föreläsningen hemma:https://www.youtube.com/live/pXEB_M-PhAQ
URL:https://overtorneaevenemang.se/evenemang/ai-tank-sakert-agera-smart-pa-natet/
LOCATION:Tornedalens Bibliotek\, Skolvägen 17\, Övertorneå\, 95785
ATTACH;FMTTYPE=image/png:https://overtorneaevenemang.se/wp-content/uploads/2024/09/Shaping-Tomorrow-with-AI.png
END:VEVENT
BEGIN:VEVENT
DTSTART;TZID=Europe/Stockholm:20241012T110000
DTEND;TZID=Europe/Stockholm:20241012T130000
DTSTAMP:20260421T230651
CREATED:20240819T095806Z
LAST-MODIFIED:20241010T094124Z
UID:10001037-1728730800-1728738000@overtorneaevenemang.se
SUMMARY:Pep Dag
DESCRIPTION:På lördag\, 12 oktober\, bjuder vi in alla barn och familjer till en kostnadsfri Pep Dag i Övertorneå sim- och sporthall. Vi har program från klockan 11 till 13 och under tiden har du möjlighet att prova på en massa olika sporter. Självklart kommer den populära och kostnadsfria Pep Kiosken att finnas på plats med nyttiga mellanmål! \nTIDSSCHEMA \nA-HALL\n11:00-13:00    Övertorneå sportklubb\n11:00-13:00    Fotbollsförbundet\n11:00-12:15     Pep Hinderbana\n12:30-13:00    Övertorneå idrottsförening\, basket \nC-HALL\n11:00-13:00    Övertorneå grappling klubb \nSIMHALL\n11:00                 Familjevattengympa\n12:00                Livräddningsdemostration \nUTOMHUS\n11:00-13:00    Övertorneå ryttarförening \nVÄLKOMNA!
URL:https://overtorneaevenemang.se/evenemang/pep-dag/
LOCATION:Övertorneå sim- och sporthall\, Skolvägen 15\, Övertorneå\, 95731
ATTACH;FMTTYPE=image/png:https://overtorneaevenemang.se/wp-content/uploads/2024/08/pep-dag.png
ORGANIZER;CN="%C3%96vertorne%C3%A5 kommun":MAILTO:kommun@overtornea.se
END:VEVENT
BEGIN:VEVENT
DTSTART;TZID=Europe/Stockholm:20241012T190000
DTEND;TZID=Europe/Stockholm:20241012T200000
DTSTAMP:20260421T230651
CREATED:20240828T110544Z
LAST-MODIFIED:20240828T110544Z
UID:10001045-1728759600-1728763200@overtorneaevenemang.se
SUMMARY:Goldbergvariationerna\, samtida cirkusmagi
DESCRIPTION:Goldbergvariationerna tar dig med på en resa bortom det vanliga\, in i en värld av magi\, kreativitet och förundran. Den här cirkusföreställningen är inte bara en show – det är en upplevelse som kommer att få dig att tro på det omöjliga.
URL:https://overtorneaevenemang.se/evenemang/goldbergvariationerna-samtida-cirkusmagi/
LOCATION:Folkets hus Övertorneå\, Industrivägen 3\, Övertorneå\, 95732\, Sverige
CATEGORIES:Familjeaktivitet
ATTACH;FMTTYPE=image/jpeg:https://overtorneaevenemang.se/wp-content/uploads/2024/08/Goldbergvariationerna-bild.jpg
ORGANIZER;CN="%C3%96vertorne%C3%A5 teaterf%C3%B6rening":MAILTO:marita.mattsson@barsk.se
END:VEVENT
BEGIN:VEVENT
DTSTART;TZID=Europe/Stockholm:20241013T150000
DTEND;TZID=Europe/Stockholm:20241013T170000
DTSTAMP:20260421T230651
CREATED:20240912T085017Z
LAST-MODIFIED:20240912T085017Z
UID:10001051-1728831600-1728838800@overtorneaevenemang.se
SUMMARY:Särkilax Kyrkas Vänner
DESCRIPTION:Årsmöte med sedvanliga årsmöteshandlingar.\n13 oktober kl. 15.00\nLokal: Nordkalottbiblioteket (NKFC) \nKommunalråd Tomas Mörtberg medverkar med information om aktuella händelser i vår kommun.
URL:https://overtorneaevenemang.se/evenemang/sarkilax-kyrkas-vanner/
CATEGORIES:Kultur
ATTACH;FMTTYPE=image/jpeg:https://overtorneaevenemang.se/wp-content/uploads/2024/09/skanna0030.jpg
END:VEVENT
END:VCALENDAR