BEGIN:VCALENDAR
VERSION:2.0
PRODID:-//Övertorneå evenemang - ECPv6.15.1.1//NONSGML v1.0//EN
CALSCALE:GREGORIAN
METHOD:PUBLISH
X-ORIGINAL-URL:https://overtorneaevenemang.se
X-WR-CALDESC:Händelser för Övertorneå evenemang
REFRESH-INTERVAL;VALUE=DURATION:PT1H
X-Robots-Tag:noindex
X-PUBLISHED-TTL:PT1H
BEGIN:VTIMEZONE
TZID:Europe/Stockholm
BEGIN:DAYLIGHT
TZOFFSETFROM:+0100
TZOFFSETTO:+0200
TZNAME:CEST
DTSTART:20260329T010000
END:DAYLIGHT
BEGIN:STANDARD
TZOFFSETFROM:+0200
TZOFFSETTO:+0100
TZNAME:CET
DTSTART:20261025T010000
END:STANDARD
END:VTIMEZONE
BEGIN:VEVENT
DTSTART;TZID=Europe/Stockholm:20260514T140000
DTEND;TZID=Europe/Stockholm:20260514T210000
DTSTAMP:20260421T153802
CREATED:20260317T132332Z
LAST-MODIFIED:20260317T132332Z
UID:10001459-1778767200-1778792400@overtorneaevenemang.se
SUMMARY:BIO: DJÄVULEN BÄR PRADA 2   OBS! 2 visningar!
DESCRIPTION:Torsdag 14 maj\nkl 14.00   och\nkl. 19.00\nGenre: Drama\nFrån\nLängd: 2 tim\nEntré 100 kr \nFilminformation\nTjugo år efter att ha skapat ikoniska karaktärer som Miranda\, Andy\, Emily och Nigel är Meryl Streep\, Anne Hathaway\, Emily Blunt och Stanley Tucci tillbaka – denna gång i 20th Century Studios The Devil Wears Prada 2. Den efterlängtade uppföljaren tar oss åter till New Yorks fashionabla gator och modemagasinet Runways eleganta kontor. Filmen regisseras av David Frankel\, med manus av Aline Brosh McKenna. Producent är Wendy Finerman\, med Michael Bederman\, Karen Rosenfelt och Aline Brosh McKenna som exekutiva producenter. \nI rollerna\nMeryl Streep (Miranda)\, Anne Hathaway (Andy)\, Emily Blunt (Emily)\, Justin Theroux\, Lucy Liu\, Simone Ashley\, Patrick Brammall\, Caleb Hearon\, Helen J. Shen\, Pauline Chalamet\, B.J. Novak\, Conrad Ricamora\, Tracie Thoms\, Tibor Feldman\, with Kenneth Branagh and Stanley Tucci (Nigel)
URL:https://overtorneaevenemang.se/evenemang/bio-djavulen-bar-prada-2-obs-2-visningar/
LOCATION:Folkets hus Övertorneå\, Industrivägen 3\, Övertorneå\, 95732\, Sverige
CATEGORIES:Öppet för alla
ATTACH;FMTTYPE=image/jpeg:https://overtorneaevenemang.se/wp-content/uploads/2026/03/djavulen-bar-prada-2-poster-260x390-1.jpg
ORGANIZER;CN="Folkets hus &Ouml%3Bvertorne&aring%3B":MAILTO:info@folketshus.info
END:VEVENT
BEGIN:VEVENT
DTSTART;TZID=Europe/Stockholm:20260521T120000
DTEND;TZID=Europe/Stockholm:20260521T140000
DTSTAMP:20260421T153802
CREATED:20260313T083825Z
LAST-MODIFIED:20260313T083825Z
UID:10001449-1779364800-1779372000@overtorneaevenemang.se
SUMMARY:Guldkanten
DESCRIPTION:Seppo Mäkinen kommer och spelar finska låtar till oss\,  Seppo soittaa suomalaisia iskelmiä. Välkommen/Tervetuloa
URL:https://overtorneaevenemang.se/evenemang/guldkanten-33/
LOCATION:Guldkanten Zakarigården\, Tingshusvägen 1\, Övertorneå\, 95731\, Sweden
CATEGORIES:Öppet för alla
ORGANIZER;CN="Guldkanten":MAILTO:marika.saxevall@overtornea.se
END:VEVENT
BEGIN:VEVENT
DTSTART;VALUE=DATE:20260717
DTEND;VALUE=DATE:20260720
DTSTAMP:20260421T153802
CREATED:20260125T091411Z
LAST-MODIFIED:20260125T091428Z
UID:10001397-1784246400-1784505599@overtorneaevenemang.se
SUMMARY:Övertorneå Cruising Weekend #17
DESCRIPTION:Classic Car Show\nFamiljedag\nCruising\nLivemusik\nErik Grönwall\nKorslagda\nJay Smith\nTeddie Ericsson\nZz Tap
URL:https://overtorneaevenemang.se/evenemang/overtornea-cruising-weekend-17/
LOCATION:Boozepack Cruisers\, Finlandsvägen 2\, Övertorneå\, 95731
CATEGORIES:Öppet för alla
ATTACH;FMTTYPE=image/png:https://overtorneaevenemang.se/wp-content/uploads/2026/01/1000025031-1-scaled.png
ORGANIZER;CN="Boozepack Cruisers":MAILTO:ota.cruising@gmail.com
END:VEVENT
END:VCALENDAR