BEGIN:VCALENDAR
VERSION:2.0
PRODID:-//Övertorneå evenemang - ECPv6.15.1.1//NONSGML v1.0//EN
CALSCALE:GREGORIAN
METHOD:PUBLISH
X-WR-CALNAME:Övertorneå evenemang
X-ORIGINAL-URL:https://overtorneaevenemang.se
X-WR-CALDESC:Händelser för Övertorneå evenemang
REFRESH-INTERVAL;VALUE=DURATION:PT1H
X-Robots-Tag:noindex
X-PUBLISHED-TTL:PT1H
BEGIN:VTIMEZONE
TZID:Europe/Stockholm
BEGIN:DAYLIGHT
TZOFFSETFROM:+0100
TZOFFSETTO:+0200
TZNAME:CEST
DTSTART:20240331T010000
END:DAYLIGHT
BEGIN:STANDARD
TZOFFSETFROM:+0200
TZOFFSETTO:+0100
TZNAME:CET
DTSTART:20241027T010000
END:STANDARD
END:VTIMEZONE
BEGIN:VEVENT
DTSTART;TZID=Europe/Stockholm:20241105T190000
DTEND;TZID=Europe/Stockholm:20241105T210000
DTSTAMP:20260421T063955
CREATED:20241007T105211Z
LAST-MODIFIED:20241007T105211Z
UID:10001084-1730833200-1730840400@overtorneaevenemang.se
SUMMARY:SMILE 2
DESCRIPTION:Tisdag 5 Nov Kl: 19:00\nGenre: skräck\nFrån: 15 år\nLängd: 2 tim 7 min\nEntré: 100 kr \nNär hon är på väg att ge sig ut för en ny världsturné börjar den globala popsensationen Skye Riley uppleva allt mer skrämmande och oförklarliga händelser. Överväldigad av de eskalerande fasorna och pressad av all berömmelse\, tvingas Skye möta sitt mörka förflutna för att återta kontrollen över sitt liv innan det spårar ur.
URL:https://overtorneaevenemang.se/evenemang/smile-2-2/
LOCATION:Folkets hus Övertorneå\, Industrivägen 3\, Övertorneå\, 95732\, Sverige
ATTACH;FMTTYPE=image/jpeg:https://overtorneaevenemang.se/wp-content/uploads/2024/10/smile2_affisch_digital-1-scaled.jpg
ORGANIZER;CN="Folkets hus &Ouml%3Bvertorne&aring%3B":MAILTO:info@folketshus.info
END:VEVENT
BEGIN:VEVENT
DTSTART;TZID=Europe/Stockholm:20241106T180000
DTEND;TZID=Europe/Stockholm:20241106T183000
DTSTAMP:20260421T063955
CREATED:20241014T141159Z
LAST-MODIFIED:20241014T141159Z
UID:10001090-1730916000-1730917800@overtorneaevenemang.se
SUMMARY:Kaiken takana on nainen
DESCRIPTION:Kvinnokören Revontulet (Norrskenet) från finska Pello uppträder med sång.
URL:https://overtorneaevenemang.se/evenemang/kaiken-takana-on-nainen/
LOCATION:Röda Kvarn i Övertorneå\, Matarengivägen 16\, Övertorneå\, 957 31
CATEGORIES:Konsert
ATTACH;FMTTYPE=image/jpeg:https://overtorneaevenemang.se/wp-content/uploads/2024/10/revontulet.jpg
ORGANIZER;CN="%C3%96vertorne%C3%A5 teaterf%C3%B6rening":MAILTO:marita.mattsson@barsk.se
END:VEVENT
BEGIN:VEVENT
DTSTART;TZID=Europe/Stockholm:20241107T190000
DTEND;TZID=Europe/Stockholm:20241107T210000
DTSTAMP:20260421T063955
CREATED:20241007T075554Z
LAST-MODIFIED:20241025T094553Z
UID:10001075-1731006000-1731013200@overtorneaevenemang.se
SUMMARY:VENOM THE LAST DANCE
DESCRIPTION:Torsdag 7 Nov Kl: 19:00\nGenre: Action\, Äventyr\, Sci-Fi\nFrån: 15 år\nLängd: 1 tim 49 min\nEntré: 100 Kr \nI den sista filmen i trilogin om Venom\, en av Marvels mest komplexa karaktärer är Eddie och Venom på rymmen. De jagas av bådas världar och när snaran dras åt tvingas duon till ett förödande beslut som gör att ridån går ner för Venoms och Eddies sista dans.
URL:https://overtorneaevenemang.se/evenemang/venom-the-last-dance/
LOCATION:Folkets hus Övertorneå\, Industrivägen 3\, Övertorneå\, 95732\, Sverige
ATTACH;FMTTYPE=image/jpeg:https://overtorneaevenemang.se/wp-content/uploads/2024/10/venom-thelastdance_affisch.jpg
ORGANIZER;CN="Folkets hus &Ouml%3Bvertorne&aring%3B":MAILTO:info@folketshus.info
END:VEVENT
BEGIN:VEVENT
DTSTART;TZID=Europe/Stockholm:20241110T130000
DTEND;TZID=Europe/Stockholm:20241110T143500
DTSTAMP:20260421T063955
CREATED:20241007T082212Z
LAST-MODIFIED:20241011T102612Z
UID:10001081-1731243600-1731249300@overtorneaevenemang.se
SUMMARY:DUMMA MEJ 4
DESCRIPTION:Söndag 10 Nov Kl: 13:00\nGenre: Animerat\, Komedi\, Äventyr\, Familj\nFrån: 7 år\nLängd: 1 tim 34 min\nEntré: 80 Kr \nI den första Dumma Mej-filmen på sju år\, återvänder Gru\, världens favoritsuperskurk som blev Anti-Villain League-agent\, till en ny och spännande era av minion-galenskap i Illuminations ”Dumma Mej 4”.
URL:https://overtorneaevenemang.se/evenemang/dumma-mej-4/
LOCATION:Folkets hus Övertorneå\, Industrivägen 3\, Övertorneå\, 95732\, Sverige
ATTACH;FMTTYPE=image/jpeg:https://overtorneaevenemang.se/wp-content/uploads/2024/10/dummamej4_digitalaffisch.jpg
ORGANIZER;CN="Folkets hus &Ouml%3Bvertorne&aring%3B":MAILTO:info@folketshus.info
END:VEVENT
BEGIN:VEVENT
DTSTART;TZID=Europe/Stockholm:20241111T130000
DTEND;TZID=Europe/Stockholm:20241111T150000
DTSTAMP:20260421T063955
CREATED:20241007T075354Z
LAST-MODIFIED:20241007T075354Z
UID:10001074-1731330000-1731337200@overtorneaevenemang.se
SUMMARY:DET SLUTAR MED OSS
DESCRIPTION:Måndag 11 Nov Kl: 13:00\nGenre: Romantik\nFrån: 11 år\nLängd: 2 tim 10 min\nEntré: 80 Kr \nLily Bloom övervinner en traumatisk barndom och skapar sig ett nytt liv i Boston och uppfyller om sin dröm om att öppna eget. Ett möte med den charmige hjärnkirurgen Ryle Kincaid tänder en gnista men allteftersom de blir mer och mer förälskade börjar Lily se sidor av Ryle som påminner om hennes föräldrars förhållande. När Lilys första kärlek Atlas Corrigan plötsligt dyker upp vänds hennes relation med Ryle upp och ner. Lily inser att hon måste våga lita på själv för att våga göra ett omöjligt val för sin framtid.
URL:https://overtorneaevenemang.se/evenemang/det-slutar-med-oss/
LOCATION:Folkets hus Övertorneå\, Industrivägen 3\, Övertorneå\, 95732\, Sverige
ATTACH;FMTTYPE=image/jpeg:https://overtorneaevenemang.se/wp-content/uploads/2024/10/detslutarmedoss_foajeskarmsaffisch_1080x1920.jpg
ORGANIZER;CN="Folkets hus &Ouml%3Bvertorne&aring%3B":MAILTO:info@folketshus.info
END:VEVENT
BEGIN:VEVENT
DTSTART;TZID=Europe/Stockholm:20241111T180000
DTEND;TZID=Europe/Stockholm:20241111T190000
DTSTAMP:20260421T063955
CREATED:20241022T102314Z
LAST-MODIFIED:20241022T102359Z
UID:10001091-1731348000-1731351600@overtorneaevenemang.se
SUMMARY:Kura skymning – Iltahämärässä
DESCRIPTION:Biblioteken i Övertorneå och Ylitornio bjuder tillsammans in till Kura skymning.\nNär Norden är som mörkast samlas vi för att tillsammans lyssna på högläsning\, årets text kommer från Skugga-Baldur: en folksaga av Sjón \nMåndag 11 November\, klockan 18 (Svensk tid) på Tornedalens bibliotek i Övertorneå. \nÖvertorneån ja Ylitornion kirjastot kutsuvat yhdessä tapahtumaan Iltahämärässä. \nOn pimein aika Pohjoismaissa keräännymme yhteen lukemaan ja kuuntelemaan tarinoita. \nMaanantaina 11/11 Klo 18 (Ruotsin aikaa)
URL:https://overtorneaevenemang.se/evenemang/kura-skymning-iltahamatassa/
LOCATION:Tornedalens Bibliotek\, Skolvägen 17\, Övertorneå\, 95785
CATEGORIES:Kultur
ATTACH;FMTTYPE=image/png:https://overtorneaevenemang.se/wp-content/uploads/2024/10/KURA-SKYMNING-HOGLASNING-FOR-VUXNA-1.png
END:VEVENT
BEGIN:VEVENT
DTSTART;TZID=Europe/Stockholm:20241112T130000
DTEND;TZID=Europe/Stockholm:20241112T150000
DTSTAMP:20260421T063955
CREATED:20241023T133402Z
LAST-MODIFIED:20241023T133402Z
UID:10001092-1731416400-1731423600@overtorneaevenemang.se
SUMMARY:Evakko 80 vuotta - Anni Korpi muistelee
DESCRIPTION:Tänä syksynä tuli 80 vuotta siitä kun lappilaiset lähtivät evakkoon. Tervetuloa kuuntelemaan Anni Korven muisteluita evakkosyksystä.
URL:https://overtorneaevenemang.se/evenemang/evakko-80-vuotta-anni-korpi-muistelee/
LOCATION:Nordkalottbiblioteket\, Matarengivägen 24i
ATTACH;FMTTYPE=image/jpeg:https://overtorneaevenemang.se/wp-content/uploads/2024/10/evakko80.jpg
END:VEVENT
BEGIN:VEVENT
DTSTART;TZID=Europe/Stockholm:20241113T093000
DTEND;TZID=Europe/Stockholm:20241113T100000
DTSTAMP:20260421T063955
CREATED:20240821T081516Z
LAST-MODIFIED:20240821T081516Z
UID:10001043-1731490200-1731492000@overtorneaevenemang.se
SUMMARY:Babybabbel på Familjecentralen
DESCRIPTION:Välkommen på Babybabbel med biblioteket på Familjecentralen!\nBabybabbel är en aktivitet för de minsta barnen och deras vuxna där vi upptäcker språket tillsammans. Vi läser pekböcker\, ramsor och sjunger. Babybabbel riktar sig främst till barn mellan 5-18 månader. Varje träff har fokus på ett speciellt tema.\nVi träffas klockan 9.30 -10.00\, fyra onsdagar i höst 18/9\, 16/10\, 13/11 och 11/12.  \nIngen föranmälan krävs.
URL:https://overtorneaevenemang.se/evenemang/babybabbel-pa-familjecentralen-3/
LOCATION:Familjens hus
CATEGORIES:För barn,Kultur
ATTACH;FMTTYPE=image/png:https://overtorneaevenemang.se/wp-content/uploads/2024/08/BABYBABBEL-2.png
END:VEVENT
BEGIN:VEVENT
DTSTART;TZID=Europe/Stockholm:20241113T190000
DTEND;TZID=Europe/Stockholm:20241113T203000
DTSTAMP:20260421T063955
CREATED:20240828T112236Z
LAST-MODIFIED:20240828T112236Z
UID:10001047-1731524400-1731529800@overtorneaevenemang.se
SUMMARY:Näktergalen musikteaterföreställning om Jenny Lind
DESCRIPTION:Norrbottensteatern besöker oss med en nyskriven föreställning som berättar livshistorien om operasångerskan Jenny Lind
URL:https://overtorneaevenemang.se/evenemang/naktergalen-musikteaterforestallning-om-jenny-lind/
LOCATION:Folkets hus Övertorneå\, Industrivägen 3\, Övertorneå\, 95732\, Sverige
CATEGORIES:Kultur
ATTACH;FMTTYPE=image/jpeg:https://overtorneaevenemang.se/wp-content/uploads/2024/08/Naktergalen-bild.jpg
ORGANIZER;CN="%C3%96vertorne%C3%A5 teaterf%C3%B6rening":MAILTO:marita.mattsson@barsk.se
END:VEVENT
BEGIN:VEVENT
DTSTART;TZID=Europe/Stockholm:20241114T130000
DTEND;TZID=Europe/Stockholm:20241114T150000
DTSTAMP:20260421T063955
CREATED:20241030T172513Z
LAST-MODIFIED:20241111T100726Z
UID:10001095-1731589200-1731596400@overtorneaevenemang.se
SUMMARY:DET KUNDE VARIT VI
DESCRIPTION:Torsdag 14 November kl. 13.00\nFrån 7 år\nLängd: 1 tim 31 min\nEntré: 80 kr\nEfter succén med Catwalk är Emma Örtlund och Ida Johansson från Glada Hudik-teatern två av\nlandets mest älskade filmpersonligheter. Nu är de tillbaka i filmen Det kunde varit vi. \nI en bedagad husbil ger de sig ut på vägarna tillsammans med Pär Johansson\, för att ta reda på hur det var att leva med en intellektuell funktionsnedsättning i en annan tid. En tid då Sverige var världsledande inom rasforskning och det utfördes fruktansvärda experiment på på Vipeholmsanstalten. \nUnder resan får Emma\, Ida och Pär hjälp av experter som Ola Larsmo\, Elin Bommenel och Kalle Lind. \nDet kunde varit vi är en berättelse om upprättelse\, men också om mod och livsglädje. \nI rollerna\nEmma Örtlund\, Ida Johansson\, Pär Johansson\, Nicklas Hillberg
URL:https://overtorneaevenemang.se/evenemang/det-kunde-varit-vi/
LOCATION:Folkets hus Övertorneå\, Industrivägen 3\, Övertorneå\, 95732\, Sverige
ATTACH;FMTTYPE=image/jpeg:https://overtorneaevenemang.se/wp-content/uploads/2024/10/det-kunde-ha-varit-vi.jpg
ORGANIZER;CN="Folkets hus &Ouml%3Bvertorne&aring%3B":MAILTO:info@folketshus.info
END:VEVENT
BEGIN:VEVENT
DTSTART;TZID=Europe/Stockholm:20241114T190000
DTEND;TZID=Europe/Stockholm:20241114T210000
DTSTAMP:20260421T063955
CREATED:20241007T075051Z
LAST-MODIFIED:20241025T094243Z
UID:10001073-1731610800-1731618000@overtorneaevenemang.se
SUMMARY:RED ONE
DESCRIPTION:Torsdag 14 Nov Kl: 19:00\nGenre: Actio\, familj\nFrån: 11 år\nLängd: 2 tim 3 min\nEntré: 100 Kr \nEfter att jultomten (kodnamn: Red One) har kidnappats måste Nordpolens säkerhetschef slå sig ihop med världens mest ökända prisjägare i ett försök att hitta tomten och rädda julen
URL:https://overtorneaevenemang.se/evenemang/red-one/
LOCATION:Folkets hus Övertorneå\, Industrivägen 3\, Övertorneå\, 95732\, Sverige
ATTACH;FMTTYPE=image/jpeg:https://overtorneaevenemang.se/wp-content/uploads/2024/10/se_redone_insta_vert_tsr_1638x2048_intl.jpg
ORGANIZER;CN="Folkets hus &Ouml%3Bvertorne&aring%3B":MAILTO:info@folketshus.info
END:VEVENT
BEGIN:VEVENT
DTSTART;TZID=Europe/Stockholm:20241116T120000
DTEND;TZID=Europe/Stockholm:20241116T140000
DTSTAMP:20260421T063955
CREATED:20241031T083907Z
LAST-MODIFIED:20241031T083907Z
UID:10001097-1731758400-1731765600@overtorneaevenemang.se
SUMMARY:HÖST LOPPIS MED CAFÉ
DESCRIPTION:16 Nov  kl: 12-14
URL:https://overtorneaevenemang.se/evenemang/host-loppis-med-cafe/
LOCATION:Folkets hus Övertorneå\, Industrivägen 3\, Övertorneå\, 95732\, Sverige
ATTACH;FMTTYPE=image/png:https://overtorneaevenemang.se/wp-content/uploads/2024/10/HOST-loppis.png
ORGANIZER;CN="Folkets hus &Ouml%3Bvertorne&aring%3B":MAILTO:info@folketshus.info
END:VEVENT
BEGIN:VEVENT
DTSTART;TZID=Europe/Stockholm:20241116T140000
DTEND;TZID=Europe/Stockholm:20241116T200000
DTSTAMP:20260421T063955
CREATED:20241105T111721Z
LAST-MODIFIED:20241105T111721Z
UID:10001099-1731765600-1731787200@overtorneaevenemang.se
SUMMARY:Pikkujoulukaraoke / Julfestkaraoke
DESCRIPTION:Tule laulamaan karaokea ja viettämään pikkujoulua!\nKom till julfest och sjung karaoke!
URL:https://overtorneaevenemang.se/evenemang/pikkujoulukaraoke-julfestkaraoke-2/
LOCATION:Nordkalottbiblioteket\, Matarengivägen 24i
ATTACH;FMTTYPE=image/jpeg:https://overtorneaevenemang.se/wp-content/uploads/2024/11/pikkujoulukaraoke.jpg
END:VEVENT
BEGIN:VEVENT
DTSTART;TZID=Europe/Stockholm:20241118T190000
DTEND;TZID=Europe/Stockholm:20241118T213000
DTSTAMP:20260421T063955
CREATED:20241007T074112Z
LAST-MODIFIED:20241104T081944Z
UID:10001072-1731956400-1731965400@overtorneaevenemang.se
SUMMARY:GLADIATOR 2
DESCRIPTION:Måndag 18 Nov Kl: 19:00\nGenre: Action\, Äventyr\, Drama\nFrån: 15 År\nLängd: 2 tim 28 min\nEntré: 100 Kr \nFrån den legendariska regissören Ridley Scott\, fortsätter Gladiator II den episka sagan om makt\, intriger och hämnd i det antika Rom. År efter att ha bevittnat den ärade hjälten Maximus död\, som orsakades av hans morbror\, tvingas Lucius att gå in i Colosseum efter att hans hem erövrats av de tyranniska kejsarna som nu styr Rom med järnhand. Med vrede i hjärtat och imperiets framtid på spel\, måste Lucius söka i sitt förflutna för att hitta styrka och heder att återge Rom dess forna glans och ära till dess folk.
URL:https://overtorneaevenemang.se/evenemang/gladiator-2/
LOCATION:Folkets hus Övertorneå\, Industrivägen 3\, Övertorneå\, 95732\, Sverige
ATTACH;FMTTYPE=image/jpeg:https://overtorneaevenemang.se/wp-content/uploads/2024/10/gladiator2_exhibitor_1440x2160.jpg
ORGANIZER;CN="Folkets hus &Ouml%3Bvertorne&aring%3B":MAILTO:info@folketshus.info
END:VEVENT
BEGIN:VEVENT
DTSTART;VALUE=DATE:20241119
DTEND;VALUE=DATE:20241126
DTSTAMP:20260421T063955
CREATED:20241117T100637Z
LAST-MODIFIED:20241117T100637Z
UID:10001102-1731974400-1732579199@overtorneaevenemang.se
SUMMARY:Kvinnofridsveckan 2024
DESCRIPTION:Under Kvinnofridsveckan så anordnar vi massor med evenemang!\nVisst ses vi?
URL:https://overtorneaevenemang.se/evenemang/kvinnofridsveckan-2024/
CATEGORIES:Kultur
ATTACH;FMTTYPE=image/png:https://overtorneaevenemang.se/wp-content/uploads/2024/11/2024-Kvinnofridsveckan-Instagram-inlagg-4.png
END:VEVENT
BEGIN:VEVENT
DTSTART;TZID=Europe/Stockholm:20241120T090000
DTEND;TZID=Europe/Stockholm:20241120T120000
DTSTAMP:20260421T063955
CREATED:20241112T082106Z
LAST-MODIFIED:20241112T082106Z
UID:10001100-1732093200-1732104000@overtorneaevenemang.se
SUMMARY:Internationella GIS-dagen 20 november firas med tårta
DESCRIPTION:Den 20 november infaller den internationella GIS-dagen. Vi firar det genom att bjuda på tårta tillsammans med NorrGis och presenterar en ny kartportal i kommunhuset på Tingshusvägen 2 i Övertorneå mellan 9:00-12:00. Varmt välkommen! \nGIS står för geografiskt informationssystem och är ett datorbaserat system för att samla in\, lagra\, bearbeta\, analysera och presentera geografisk data. Läs mer om GIS på wikipedia här: https://sv.wikipedia.org/wiki/Geografiskt_informationssystem
URL:https://overtorneaevenemang.se/evenemang/internationella-gis-dagen-20-november-firas-med-tarta/
LOCATION:Övertorneå kommun\, Tingshusvägen 2\, Övertorneå\, 95731\, Sverige
ATTACH;FMTTYPE=image/png:https://overtorneaevenemang.se/wp-content/uploads/2024/11/gisdagen.png
ORGANIZER;CN="%C3%96vertorne%C3%A5 kommun":MAILTO:kommun@overtornea.se
END:VEVENT
BEGIN:VEVENT
DTSTART;TZID=Europe/Stockholm:20241125T080000
DTEND;TZID=Europe/Stockholm:20241125T170000
DTSTAMP:20260421T063955
CREATED:20241117T100957Z
LAST-MODIFIED:20241117T100957Z
UID:10001103-1732521600-1732554000@overtorneaevenemang.se
SUMMARY:Föreläsning med Maria Dufva
DESCRIPTION:Vet du vad ditt barn gör på nätet?
URL:https://overtorneaevenemang.se/evenemang/forelasning-med-maria-dufva/2024-11-25/1/
LOCATION:Folkets hus Övertorneå\, Industrivägen 3\, Övertorneå\, 95732\, Sverige
CATEGORIES:Kultur
ATTACH;FMTTYPE=image/png:https://overtorneaevenemang.se/wp-content/uploads/2024/11/2024-Kvinnofridsveckan-1-080-x-1-350-pixlar.png
END:VEVENT
BEGIN:VEVENT
DTSTART;TZID=Europe/Stockholm:20241125T180000
DTEND;TZID=Europe/Stockholm:20241125T193000
DTSTAMP:20260421T063955
CREATED:20241117T100957Z
LAST-MODIFIED:20241117T100957Z
UID:10001104-1732557600-1732563000@overtorneaevenemang.se
SUMMARY:Föreläsning med Maria Dufva
DESCRIPTION:Vet du vad ditt barn gör på nätet?
URL:https://overtorneaevenemang.se/evenemang/forelasning-med-maria-dufva/2024-11-25/2/
LOCATION:Folkets hus Övertorneå\, Industrivägen 3\, Övertorneå\, 95732\, Sverige
CATEGORIES:Kultur
ATTACH;FMTTYPE=image/png:https://overtorneaevenemang.se/wp-content/uploads/2024/11/2024-Kvinnofridsveckan-1-080-x-1-350-pixlar.png
END:VEVENT
BEGIN:VEVENT
DTSTART;TZID=Europe/Stockholm:20241130T210000
DTEND;TZID=Europe/Stockholm:20241201T010000
DTSTAMP:20260421T063955
CREATED:20241030T173005Z
LAST-MODIFIED:20241030T173005Z
UID:10001096-1733000400-1733014800@overtorneaevenemang.se
SUMMARY:VINTER PARTY 30 NOVEMBER
DESCRIPTION:MIDDAG KL. 19-21 (begränsat antal platser\, förbokas)\nNu kör vi ett vinter party för allmänhet\, företag\, föreningar!!\nBoka in företagets firmafest\, kompisgängets party\, föreningens avslutning på året\, i goda vänners lag eller kom solo.\nCatering av Kattilakoski restaurang\nMENY:\nKalla rätter\nHusbakat bröd med vispat smör \nEgen gravad lax \nEgen rökt öring \nLokal honungsglaserad skinka \nPotatissallad \nVarmrätter\nLuttugården köttbullar i karamelliserad löksås \nLångrökt kött från Luttugården \nPrinskorvs pizzafocaccia \nOstig potatisgratäng \nBräserad rödkål \nVitlök och honungsrostade morötter \nTillbehör\nVispad dill creme fraiche \nVispat kryddpepparsmör \nLingonsylt \nDessert\nPavlova \nSticky date pudding (Klibbig dadelpudding) \nVispad rispudding\, kanelchokladmousse\, vit choklad \nPepparkakor \nFörbokningar kan göras via mail\, info@folketshus.info eller 0927-771 45
URL:https://overtorneaevenemang.se/evenemang/vinter-party-30-november/
LOCATION:Folkets hus Övertorneå\, Industrivägen 3\, Övertorneå\, 95732\, Sverige
ATTACH;FMTTYPE=image/jpeg:https://overtorneaevenemang.se/wp-content/uploads/2024/10/Vinter-jpg.jpg
ORGANIZER;CN="Folkets hus &Ouml%3Bvertorne&aring%3B":MAILTO:info@folketshus.info
END:VEVENT
END:VCALENDAR