BEGIN:VCALENDAR
VERSION:2.0
PRODID:-//Övertorneå evenemang - ECPv6.15.1.1//NONSGML v1.0//EN
CALSCALE:GREGORIAN
METHOD:PUBLISH
X-ORIGINAL-URL:https://overtorneaevenemang.se
X-WR-CALDESC:Händelser för Övertorneå evenemang
REFRESH-INTERVAL;VALUE=DURATION:PT1H
X-Robots-Tag:noindex
X-PUBLISHED-TTL:PT1H
BEGIN:VTIMEZONE
TZID:Europe/Stockholm
BEGIN:DAYLIGHT
TZOFFSETFROM:+0100
TZOFFSETTO:+0200
TZNAME:CEST
DTSTART:20240331T010000
END:DAYLIGHT
BEGIN:STANDARD
TZOFFSETFROM:+0200
TZOFFSETTO:+0100
TZNAME:CET
DTSTART:20241027T010000
END:STANDARD
END:VTIMEZONE
BEGIN:VEVENT
DTSTART;TZID=Europe/Stockholm:20240604T080000
DTEND;TZID=Europe/Stockholm:20240620T150000
DTSTAMP:20260422T173023
CREATED:20240605T084035Z
LAST-MODIFIED:20240605T084035Z
UID:10000932-1717488000-1718895600@overtorneaevenemang.se
SUMMARY:Utställning: JAG ÄR KEJSARINNA / KROPPAR OCH KASKADGRÅT
DESCRIPTION:Filmaren Erica Elfström och skribenten Marika Rasmusson möttes i en dialog om akut kejsarsnitt efter en gemensam insikt om att det till stor del är ett outforskat område. Varför visste de själva så lite om akuta snitt trots att de hade gått igenom det? Varför finns det så få konstnärliga berättelser om det? \nFoto: Erica Elfström\nPoesi: Marika Rasmusson \nKom och besök utställningen som nu finns på Tornedalens folkhögskola fram till midsommar. \nUtställning i huvudbyggnaden\, Matarengivägen 24G\, dagtid\, vardagar.\nFri Entré
URL:https://overtorneaevenemang.se/evenemang/utstallning-jag-ar-kejsarinna-kroppar-och-kaskadgrat/
LOCATION:Tornedalens Folkhögskola\, Matarengivägen 24G\, Övertorneå\, 95731
ATTACH;FMTTYPE=image/png:https://overtorneaevenemang.se/wp-content/uploads/2024/06/EricaA4.png
ORGANIZER;CN="Tornedalens folkh%C3%B6gskola":MAILTO:info@tornedalen.se
END:VEVENT
BEGIN:VEVENT
DTSTART;TZID=Europe/Stockholm:20240618T130000
DTEND;TZID=Europe/Stockholm:20240618T140000
DTSTAMP:20260422T173023
CREATED:20240605T084732Z
LAST-MODIFIED:20240612T065204Z
UID:10000933-1718715600-1718719200@overtorneaevenemang.se
SUMMARY:Glassäventyret – uppstart
DESCRIPTION:Välkommen att starta sommarens läsutmaning på biblioteket!\nTisdag 18 juni klockan 13.00 \nVi pysslar tygkassar\, fikar och du får med dig sommarens läsutmaning: Glassäventyret med dig hem. Glassäventyret passar för dig mellan 6-12 år. Från skolavslutningen till 19/8 kan du både hämta Glassäventyret och levla upp till nästa nivå på biblioteket.
URL:https://overtorneaevenemang.se/evenemang/glassaventyret/
LOCATION:Tornedalens Bibliotek\, Skolvägen 17\, Övertorneå\, 95785
CATEGORIES:För barn
ATTACH;FMTTYPE=image/jpeg:https://overtorneaevenemang.se/wp-content/uploads/2024/06/2.jpg
END:VEVENT
BEGIN:VEVENT
DTSTART;TZID=Europe/Stockholm:20240619T170000
DTEND;TZID=Europe/Stockholm:20240619T190000
DTSTAMP:20260422T173023
CREATED:20240520T115332Z
LAST-MODIFIED:20240520T115332Z
UID:10000927-1718816400-1718823600@overtorneaevenemang.se
SUMMARY:Flora & Fotovandring i Jänkisjärvi
DESCRIPTION:Flora och foto vandring på spångarna runt Jänkisjärvi. Samling vid g:a skolan.\nVi bjuder på fika.\nVälkomna!
URL:https://overtorneaevenemang.se/evenemang/flora-fotovandring-i-jankisjarvi/
LOCATION:Jänkisjärvi
CATEGORIES:Familjeaktivitet
END:VEVENT
BEGIN:VEVENT
DTSTART;TZID=Europe/Stockholm:20240621T110000
DTEND;TZID=Europe/Stockholm:20240621T140000
DTSTAMP:20260422T173023
CREATED:20240519T124557Z
LAST-MODIFIED:20240520T065839Z
UID:10000925-1718967600-1718978400@overtorneaevenemang.se
SUMMARY:Midsommarfirande på Kuivafolkan
DESCRIPTION:Midsommarfirande för alla åldrar.Dans runt midsommarstången\, livemusik\, tävlingar\, ponnyridning\, tombola\, lotteri\, fika och grillat till försäljning. \nTävlingarna pågår till 13.30 därefter prisutdelning. \nPlats: Kuivakangas 155
URL:https://overtorneaevenemang.se/evenemang/midsommarfirande-pa-kuivafolkan-2/
LOCATION:Nedre Kuivakangas
CATEGORIES:Familjeaktivitet,För barn,Kultur
ATTACH;FMTTYPE=image/jpeg:https://overtorneaevenemang.se/wp-content/uploads/2024/05/Kuivafolkan-midsommar.jpeg
END:VEVENT
BEGIN:VEVENT
DTSTART;TZID=Europe/Stockholm:20240621T120000
DTEND;TZID=Europe/Stockholm:20240621T140000
DTSTAMP:20260422T173023
CREATED:20240612T064112Z
LAST-MODIFIED:20240612T090434Z
UID:10000950-1718971200-1718978400@overtorneaevenemang.se
SUMMARY:Midsommarfirande i Svanstein
DESCRIPTION:Kom och fira midsommar med oss i Svanstein! \nMidsommarafton 21/6 kl. 12:00-14:00 vid Dränglängan. \nMusikunderhållning med Rasmus Rova och Anton Muskos
URL:https://overtorneaevenemang.se/evenemang/evenemang-i-svanstein-2/
LOCATION:dränglängan\, 239 Svanstein\, Övertorneå\, 95794\, Sverige
ATTACH;FMTTYPE=image/jpeg:https://overtorneaevenemang.se/wp-content/uploads/2024/06/midsommarstang-scaled-1.jpg
END:VEVENT
BEGIN:VEVENT
DTSTART;TZID=Europe/Stockholm:20240621T150000
DTEND;TZID=Europe/Stockholm:20240621T180000
DTSTAMP:20260422T173023
CREATED:20240612T153932Z
LAST-MODIFIED:20240612T153932Z
UID:10000953-1718982000-1718992800@overtorneaevenemang.se
SUMMARY:Övertorneå Hembygdsförening
DESCRIPTION:Övertorneå hembygdsförening bjuder in till midsommarfirande på Aunesgården (hembygdsgården) Den 21 Juni kl 15.00
URL:https://overtorneaevenemang.se/evenemang/overtornea-hembygdsforening-2/
CATEGORIES:Kultur
END:VEVENT
BEGIN:VEVENT
DTSTART;TZID=Europe/Stockholm:20240622T140000
DTEND;TZID=Europe/Stockholm:20240622T170000
DTSTAMP:20260422T173023
CREATED:20240619T134838Z
LAST-MODIFIED:20240619T134838Z
UID:10001022-1719064800-1719075600@overtorneaevenemang.se
SUMMARY:BILBINGO AAPUA
DESCRIPTION:BILBINGO AAPUA\nMidsommardagen\nLördag 22/6\nkl.14.00\nToppvinst:\n 20.000:-\nMINIBINGO \nFacebook: Bilbingo Aapua\, Instagram: bilbingoaapua \nFörsäljning Hamburgare\, Café.\nBetalning med swish eller kontanter (SEK/EURO)\nByabutiken/Kylänkauppa är öppen 12.30-14.00\nVälkomna! / Aapua Idrottsförening
URL:https://overtorneaevenemang.se/evenemang/bilbingo-aapua-2/
LOCATION:Aapua\, Övertorneå\, 957 94
ATTACH;FMTTYPE=image/jpeg:https://overtorneaevenemang.se/wp-content/uploads/2024/06/bilbingo.jpg
END:VEVENT
END:VCALENDAR