BEGIN:VCALENDAR
VERSION:2.0
PRODID:-//Övertorneå evenemang - ECPv6.15.1.1//NONSGML v1.0//EN
CALSCALE:GREGORIAN
METHOD:PUBLISH
X-WR-CALNAME:Övertorneå evenemang
X-ORIGINAL-URL:https://overtorneaevenemang.se
X-WR-CALDESC:Händelser för Övertorneå evenemang
REFRESH-INTERVAL;VALUE=DURATION:PT1H
X-Robots-Tag:noindex
X-PUBLISHED-TTL:PT1H
BEGIN:VTIMEZONE
TZID:Europe/Stockholm
BEGIN:DAYLIGHT
TZOFFSETFROM:+0100
TZOFFSETTO:+0200
TZNAME:CEST
DTSTART:20240331T010000
END:DAYLIGHT
BEGIN:STANDARD
TZOFFSETFROM:+0200
TZOFFSETTO:+0100
TZNAME:CET
DTSTART:20241027T010000
END:STANDARD
END:VTIMEZONE
BEGIN:VEVENT
DTSTART;VALUE=DATE:20240706
DTEND;VALUE=DATE:20240707
DTSTAMP:20260422T123853
CREATED:20240703T101643Z
LAST-MODIFIED:20240703T101643Z
UID:10001026-1720224000-1720310399@overtorneaevenemang.se
SUMMARY:Polcirkelandsmästefskap
DESCRIPTION:Kubb 3 manna lag anmälan Vyöni byastuga lörd 6 /7 kl 17.00
URL:https://overtorneaevenemang.se/evenemang/polcirkelandsmastefskap/
END:VEVENT
BEGIN:VEVENT
DTSTART;TZID=Europe/Stockholm:20240707T110000
DTEND;TZID=Europe/Stockholm:20240707T130000
DTSTAMP:20260422T123853
CREATED:20240606T193732Z
LAST-MODIFIED:20240606T193732Z
UID:10000935-1720350000-1720357200@overtorneaevenemang.se
SUMMARY:Familjegudstjänst med Youngsters vid Polcirkelhuset Söndag 7 juli kl.11.00
DESCRIPTION:Söndag 7 juli kl. 11.00 familjegudstjänst med Youngsters. De spelar en mer rockig musik och berättar och dramatiserar olika bibelberättelser\, det blir en ganska annorlunda gudstjänst. De är ute på turne och har varit på Kiruna festivalen helgen före och på Pajala marknad.
URL:https://overtorneaevenemang.se/evenemang/familjegudstjanst-med-youngsters-vid-polcirkelhuset-sondag-7-juli-kl-11-00/
LOCATION:Juoksengi\, Polcirkelvägen 60\, Juoksengi\, 95723
ORGANIZER;CN="%C3%96vertorne%C3%A5 f%C3%B6rsamling":MAILTO:overtornea.forsamling@svenskakyrkan.se
END:VEVENT
END:VCALENDAR