BEGIN:VCALENDAR
VERSION:2.0
PRODID:-//Övertorneå evenemang - ECPv6.15.1.1//NONSGML v1.0//EN
CALSCALE:GREGORIAN
METHOD:PUBLISH
X-WR-CALNAME:Övertorneå evenemang
X-ORIGINAL-URL:https://overtorneaevenemang.se
X-WR-CALDESC:Händelser för Övertorneå evenemang
REFRESH-INTERVAL;VALUE=DURATION:PT1H
X-Robots-Tag:noindex
X-PUBLISHED-TTL:PT1H
BEGIN:VTIMEZONE
TZID:Europe/Stockholm
BEGIN:DAYLIGHT
TZOFFSETFROM:+0100
TZOFFSETTO:+0200
TZNAME:CEST
DTSTART:20240331T010000
END:DAYLIGHT
BEGIN:STANDARD
TZOFFSETFROM:+0200
TZOFFSETTO:+0100
TZNAME:CET
DTSTART:20241027T010000
END:STANDARD
END:VTIMEZONE
BEGIN:VEVENT
DTSTART;TZID=Europe/Stockholm:20240708T080000
DTEND;TZID=Europe/Stockholm:20240713T170000
DTSTAMP:20260422T090818
CREATED:20240701T084216Z
LAST-MODIFIED:20240701T084216Z
UID:10001025-1720425600-1720890000@overtorneaevenemang.se
SUMMARY:Vitsaniemiveckan 2024 8 juli -13 juli
DESCRIPTION:Risudden/Vitsaniemi byaförening 1994 – 2024 \nTipspromenad för hela veckan! Byaföreningen jubilerar 30 år! Vad kan du om din\nförening? Vandra runt på skolgården och testa dina kunskaper. Trisslotter lottas ut\nbland inlämnade svar! \nMåndag 8 juli\nFiskestigen kl 10.00 Guidad vandring med Olle Perttu som berättar om händelser\noch platser längs vägen. Lättvandrat Medtag vatten vid varmt väder!\nSamling vid Vuentokoski och avslut vid badbryggan mitt i byn. Det går även bra att\nansluta vid badbryggan för grill och fika. \nLek och spel för barn och vuxna Gamla skolan. Efter grill och fika går vi upp på\nskolgården för alla som vill prova på skidskytte under ledning av\nSK Gränsen. En vuxen – och en barnklass för de som vill ha lite spänning! Priser till\nbarnen och trisslotter till vuxna deltagare. \nTisdag 9 juli\nBrandkunskap kl 10.00 Fredrik Heikinpieti Räddningstjänsten Luleå\n– Lär dig mer / uppdatera dina kunskaper om hur du ska agera vid en brand och vilken\nsäkerhet som behövs i ett hem. \nOnsdag 10 juli Hjärt- och lungräddning. kl 09.30 och 11.00 Maria Ruotuvaara\nFöranmälan 076-1460928 max 6 deltagare /grupp. \nTorsdag 11 juli Boule kl 13.00 Elisa och Gunnar Lindgren\nSpel i lag om två personer. Trisslotter till tre bästa lagen! \nKonstutställning Aila Stoor 12 juli – 13 juli gamla skolan Risudden \nLördag 13 juli Sommarfest alla välkomna Kl 12.30\nVälkomnande och tipspromenad och lottförsäljning\nLaxsoppa\, bröd och ost och kaffe med prinsesstårta\nByaföreningens medlemmar gratis. Gäster betalar 100 kr / kuvert eller alternativt\nväljer att betala medlemsavgift. Medlemskap krävs för danskväll på Björkhyddan och\när inte möjlig att lösa på Björkhyddan. \nHJÄRTLIGT VÄLKOMNA!\nRisudden/vitsaniemi byaförening
URL:https://overtorneaevenemang.se/evenemang/vitsaniemiveckan-2024-8-juli-13-juli/
LOCATION:Risudden Gamla skolan\, Risudden 134\, Hedenäset\, 95795
CATEGORIES:Familjeaktivitet
END:VEVENT
BEGIN:VEVENT
DTSTART;TZID=Europe/Stockholm:20240708T180000
DTEND;TZID=Europe/Stockholm:20240708T190000
DTSTAMP:20260422T090818
CREATED:20240609T175247Z
LAST-MODIFIED:20240609T175247Z
UID:10000936-1720461600-1720465200@overtorneaevenemang.se
SUMMARY:Måndag 8 juli kl.18.00 Sånggudstjänst  ute Polcirkelhuset.
DESCRIPTION:Sånggudstjänst måndag 8 juli kl.18.00 ute Polcirkelhuset församlingen bjuder på fika.
URL:https://overtorneaevenemang.se/evenemang/mandag-8-juli-kl-18-00-sanggudstjanst-ute-polcirkelhuset/
LOCATION:Juoksengi\, Polcirkelvägen 60\, Juoksengi\, 95723
CATEGORIES:Familjeaktivitet
ORGANIZER;CN="%C3%96vertorne%C3%A5 f%C3%B6rsamling":MAILTO:overtornea.forsamling@svenskakyrkan.se
END:VEVENT
BEGIN:VEVENT
DTSTART;TZID=Europe/Stockholm:20240709T100000
DTEND;TZID=Europe/Stockholm:20240710T170000
DTSTAMP:20260422T090818
CREATED:20240609T181652Z
LAST-MODIFIED:20240609T181652Z
UID:10000937-1720519200-1720630800@overtorneaevenemang.se
SUMMARY:Polcirkelmarknad 9 - 10 Juli
DESCRIPTION:Polcirkelmarknad tisdag 9 – onsdag 10 juli. Med mycket gratis aktiviteter för barn i alla åldrar\, gratis fika till alla barn båda dagarna\, Nya hoppborgar\, Viljas familjeland\, Minidisco med Vovven\, godisutdelning\, Zillah & Totte show\, Tomas Trolleri\, pröva på skytte med SK Gränsen\, Youtubern riktige Pontus\, Cirkus Ylivoli + mera.\nSanne Brännström & Isak Pantzare\, Invigning Linus Styrman Kaunis Iron\, Hej Hemby\, marknadsbingo\, Elbil & Solpanels entusiaster\, Linnea Huhta\, sagostund för de yngre på meänkieli & svenska\, Amanda Aasa\, Göran Lahti\, Arto Tiesma\, Reimo Joupperi\, Maja Huuva\, Agust Rising\, Haparanda Karaoke\, Fredrik Hangasjärvi\, Heidi Haapasaari + mera.
URL:https://overtorneaevenemang.se/evenemang/polcirkelmarknad-9-10-juli/
LOCATION:Juoksengi\, Polcirkelvägen 60\, Juoksengi\, 95723
CATEGORIES:Familjeaktivitet,Marknad
ORGANIZER;CN="Juoksengi Byaf%C3%B6rening":MAILTO:tomas.westerberg@jgitv.se
END:VEVENT
BEGIN:VEVENT
DTSTART;TZID=Europe/Stockholm:20240709T210000
DTEND;TZID=Europe/Stockholm:20240710T010000
DTSTAMP:20260422T090818
CREATED:20240609T182313Z
LAST-MODIFIED:20240609T182313Z
UID:10000938-1720558800-1720573200@overtorneaevenemang.se
SUMMARY:Marknads Pub / Dans
DESCRIPTION:Marknads Pub / Dans tisdag 9 juli kl. 21.00 – 01.00 till STAGEMANS Orkester Entre 150:- utedansbana Polcirkelhuset.
URL:https://overtorneaevenemang.se/evenemang/marknads-pub-dans/
LOCATION:Juoksengi\, Polcirkelvägen 60\, Juoksengi\, 95723
CATEGORIES:Konsert
ORGANIZER;CN="Juoksengi Byaf%C3%B6rening":MAILTO:tomas.westerberg@jgitv.se
END:VEVENT
BEGIN:VEVENT
DTSTART;TZID=Europe/Stockholm:20240712T080000
DTEND;TZID=Europe/Stockholm:20240714T170000
DTSTAMP:20260422T090818
CREATED:20240415T094422Z
LAST-MODIFIED:20240520T112048Z
UID:10000907-1720771200-1720976400@overtorneaevenemang.se
SUMMARY:Matarengi Marknads Gatufest
DESCRIPTION:2024 är året då Företagarna i Övertorneå\, med nya krafter och ideér väcker liv i den årliga marknaden. Välkommen att delta eller besöka oss under dessa dagar.\nFrågor om försäljningsplatser? Kontakta Elisabeth Holmgren 070-6411978. Medverkan på scen eller utställning? kontakta Annika 0730-224 669 Eller kontakta oss på e-post matarengi.gatufest@gmail.com eller via FB eller Insta.
URL:https://overtorneaevenemang.se/evenemang/matarengi-marknads-gatufest/
LOCATION:Matarengivägen\, Matarengivägen\, ÖVERTORNEÅ\, 957 31
END:VEVENT
BEGIN:VEVENT
DTSTART;TZID=Europe/Stockholm:20240712T200000
DTEND;TZID=Europe/Stockholm:20240713T020000
DTSTAMP:20260422T090818
CREATED:20240229T142452Z
LAST-MODIFIED:20240702T083234Z
UID:10000889-1720814400-1720836000@overtorneaevenemang.se
SUMMARY:DANSHELG PÅ FOLKETS HUS
DESCRIPTION:Fredag 12 juli\nThor Görans kl. 21-02\nCarisma kl. 20-01\nLördag 13 juli\nLivemusik med Vanity Insanity kl. 21-02\nDJ kl. 20-01 \nFÖRKÖPSBILJETT 250 kr/kväll kan kan köpas på Folkets Hus OBS! t om 11 juli \nBiljetter finns att köpa på Folkets Hus. OBS! Begränsat antal förköpsbiljetter. \nPassa även på att boka boendepaket vid Lapland View Lodge. Se Explore the North hemsida
URL:https://overtorneaevenemang.se/evenemang/marknads-helgen-pa-folketshus/
LOCATION:Folkets hus Övertorneå\, Industrivägen 3\, Övertorneå\, 95732\, Sverige
ATTACH;FMTTYPE=image/jpeg:https://overtorneaevenemang.se/wp-content/uploads/2024/02/FolketsHus_Danshelg_Affisch_A3_PRINT-1-3-scaled.jpg
ORGANIZER;CN="Folkets hus &Ouml%3Bvertorne&aring%3B":MAILTO:info@folketshus.info
END:VEVENT
BEGIN:VEVENT
DTSTART;TZID=Europe/Stockholm:20240713T120000
DTEND;TZID=Europe/Stockholm:20240713T160000
DTSTAMP:20260422T090818
CREATED:20240526T150025Z
LAST-MODIFIED:20240526T150025Z
UID:10000929-1720872000-1720886400@overtorneaevenemang.se
SUMMARY:Öppet hus
DESCRIPTION:-Prova släktforska – erfarna släktforskare handleder\n-Skärmutställning om några soldatöden från bygden under 1600 – 1800 talet \nVälkommen
URL:https://overtorneaevenemang.se/evenemang/oppet-hus/2024-07-13/
LOCATION:Nordkalottbiblioteket\, Matarengivägen 24i
ORGANIZER;CN="Matarengi Forskarf&ouml%3Brening":MAILTO:info@matarengi.org
END:VEVENT
BEGIN:VEVENT
DTSTART;TZID=Europe/Stockholm:20240713T130000
DTEND;TZID=Europe/Stockholm:20240714T010000
DTSTAMP:20260422T090818
CREATED:20240609T183403Z
LAST-MODIFIED:20240609T183403Z
UID:10000939-1720875600-1720918800@overtorneaevenemang.se
SUMMARY:Swim the Arctic Circle Lördag 13 juli kl. 13.00 och 23.05
DESCRIPTION:Swim the Arctic Circle\, Sveriges nordligaste öppet vatten tävling\, som har blivit en världs succe\, som lockar simmare från hela världen. Swim the Artic Circle är rankad bland dom 10 vackraste tävlingar i världen.
URL:https://overtorneaevenemang.se/evenemang/swim-the-arctic-circle-lordag-13-juli-kl-13-00-och-23-05/
LOCATION:Juoksengi\, Polcirkelvägen 60\, Juoksengi\, 95723
CATEGORIES:Idrott
ORGANIZER;CN="Juoksengi Byaf%C3%B6rening":MAILTO:tomas.westerberg@jgitv.se
END:VEVENT
BEGIN:VEVENT
DTSTART;TZID=Europe/Stockholm:20240714T120000
DTEND;TZID=Europe/Stockholm:20240714T160000
DTSTAMP:20260422T090818
CREATED:20240526T150025Z
LAST-MODIFIED:20240526T150025Z
UID:10000930-1720958400-1720972800@overtorneaevenemang.se
SUMMARY:Öppet hus
DESCRIPTION:-Prova släktforska – erfarna släktforskare handleder\n-Skärmutställning om några soldatöden från bygden under 1600 – 1800 talet \nVälkommen
URL:https://overtorneaevenemang.se/evenemang/oppet-hus/2024-07-14/
LOCATION:Nordkalottbiblioteket\, Matarengivägen 24i
ORGANIZER;CN="Matarengi Forskarf&ouml%3Brening":MAILTO:info@matarengi.org
END:VEVENT
END:VCALENDAR