BEGIN:VCALENDAR
VERSION:2.0
PRODID:-//Övertorneå evenemang - ECPv6.15.1.1//NONSGML v1.0//EN
CALSCALE:GREGORIAN
METHOD:PUBLISH
X-ORIGINAL-URL:https://overtorneaevenemang.se
X-WR-CALDESC:Händelser för Övertorneå evenemang
REFRESH-INTERVAL;VALUE=DURATION:PT1H
X-Robots-Tag:noindex
X-PUBLISHED-TTL:PT1H
BEGIN:VTIMEZONE
TZID:Europe/Stockholm
BEGIN:DAYLIGHT
TZOFFSETFROM:+0100
TZOFFSETTO:+0200
TZNAME:CEST
DTSTART:20240331T010000
END:DAYLIGHT
BEGIN:STANDARD
TZOFFSETFROM:+0200
TZOFFSETTO:+0100
TZNAME:CET
DTSTART:20241027T010000
END:STANDARD
END:VTIMEZONE
BEGIN:VEVENT
DTSTART;VALUE=DATE:20240719
DTEND;VALUE=DATE:20240722
DTSTAMP:20260422T042838
CREATED:20240430T070725Z
LAST-MODIFIED:20240430T070725Z
UID:10000913-1721347200-1721606399@overtorneaevenemang.se
SUMMARY:Övertorneå Cruising #15
DESCRIPTION:Classic Car and Truck Show\, Live Musik\, Tatuerare\, Familje Dag med massa gratis aktiviteter för barnen\, Cruising\, Pub och Öltält\nThe Go Getters\, Björn Rosenström\, Larz Kristerz\,  Bourbon Boys
URL:https://overtorneaevenemang.se/evenemang/overtornea-cruising-15/
LOCATION:Boozepack Cruisers\, Finlandsvägen 2\, Övertorneå\, 95731
CATEGORIES:Familjeaktivitet,Konsert
ATTACH;FMTTYPE=image/png:https://overtorneaevenemang.se/wp-content/uploads/2024/04/Overtornea-Cruising-2024-Facebook-banner-4-20240325.png
ORGANIZER;CN="%C3%96vertorne%C3%A5 Cruisingf%C3%B6rening":MAILTO:Ota.cruising@gmail.com
END:VEVENT
BEGIN:VEVENT
DTSTART;TZID=Europe/Stockholm:20240721T140000
DTEND;TZID=Europe/Stockholm:20240721T170000
DTSTAMP:20260422T042838
CREATED:20240717T084749Z
LAST-MODIFIED:20240717T084749Z
UID:10001027-1721570400-1721581200@overtorneaevenemang.se
SUMMARY:BILBINGO AAPUA
DESCRIPTION:BILBINGO i AAPUA\nSöndag 21/7\nkl.14.00\nToppvinst:\n 20.000:-\nMINIBINGO \nFacebook: Bilbingo Aapua\, Instagram: bilbingoaapua \nFörsäljning Hamburgare\, Café.\nBetalning med swish eller kontanter (SEK/EURO)\nByabutiken/Kylänkauppa är öppen 12.30-14.00\nVälkomna! / Aapua Idrottsförening
URL:https://overtorneaevenemang.se/evenemang/bilbingo-aapua-3/
ATTACH;FMTTYPE=image/jpeg:https://overtorneaevenemang.se/wp-content/uploads/2024/07/20240715_145718-scaled.jpg
END:VEVENT
END:VCALENDAR