BEGIN:VCALENDAR
VERSION:2.0
PRODID:-//Övertorneå evenemang - ECPv6.15.1.1//NONSGML v1.0//EN
CALSCALE:GREGORIAN
METHOD:PUBLISH
X-WR-CALNAME:Övertorneå evenemang
X-ORIGINAL-URL:https://overtorneaevenemang.se
X-WR-CALDESC:Händelser för Övertorneå evenemang
REFRESH-INTERVAL;VALUE=DURATION:PT1H
X-Robots-Tag:noindex
X-PUBLISHED-TTL:PT1H
BEGIN:VTIMEZONE
TZID:Europe/Stockholm
BEGIN:DAYLIGHT
TZOFFSETFROM:+0100
TZOFFSETTO:+0200
TZNAME:CEST
DTSTART:20240331T010000
END:DAYLIGHT
BEGIN:STANDARD
TZOFFSETFROM:+0200
TZOFFSETTO:+0100
TZNAME:CET
DTSTART:20241027T010000
END:STANDARD
END:VTIMEZONE
BEGIN:VEVENT
DTSTART;TZID=Europe/Stockholm:20240728T140000
DTEND;TZID=Europe/Stockholm:20240728T170000
DTSTAMP:20260422T025315
CREATED:20240724T130345Z
LAST-MODIFIED:20240724T130345Z
UID:10001028-1722175200-1722186000@overtorneaevenemang.se
SUMMARY:BILBINGO AAPUA
DESCRIPTION:BILBINGO AAPUA\nSöndag 28/7\nkl.14.00\nToppvinst:\n 20.000:-\nMINIBINGO \nFacebook: Bilbingo Aapua\, Instagram: bilbingoaapua \nFörsäljning Hamburgare\, Café.\nBetalning med swish eller kontanter (SEK/EURO)\nByabutiken/Kylänkauppa är öppen 12.30-14.00\nVälkomna! / Aapua Idrottsförening
URL:https://overtorneaevenemang.se/evenemang/bilbingo-aapua-4/
ATTACH;FMTTYPE=image/jpeg:https://overtorneaevenemang.se/wp-content/uploads/2024/07/IMG_20240723_110809_466.jpg
END:VEVENT
END:VCALENDAR