BEGIN:VCALENDAR
VERSION:2.0
PRODID:-//Övertorneå evenemang - ECPv6.15.1.1//NONSGML v1.0//EN
CALSCALE:GREGORIAN
METHOD:PUBLISH
X-WR-CALNAME:Övertorneå evenemang
X-ORIGINAL-URL:https://overtorneaevenemang.se
X-WR-CALDESC:Händelser för Övertorneå evenemang
REFRESH-INTERVAL;VALUE=DURATION:PT1H
X-Robots-Tag:noindex
X-PUBLISHED-TTL:PT1H
BEGIN:VTIMEZONE
TZID:Europe/Stockholm
BEGIN:DAYLIGHT
TZOFFSETFROM:+0100
TZOFFSETTO:+0200
TZNAME:CEST
DTSTART:20240331T010000
END:DAYLIGHT
BEGIN:STANDARD
TZOFFSETFROM:+0200
TZOFFSETTO:+0100
TZNAME:CET
DTSTART:20241027T010000
END:STANDARD
END:VTIMEZONE
BEGIN:VEVENT
DTSTART;TZID=Europe/Stockholm:20240826T080000
DTEND;TZID=Europe/Stockholm:20240913T140000
DTSTAMP:20260421T201650
CREATED:20240813T110341Z
LAST-MODIFIED:20240813T110341Z
UID:10001034-1724659200-1726236000@overtorneaevenemang.se
SUMMARY:KONSTUTSTÄLLNING - ALICE ALDRIDGE
DESCRIPTION:Alice Aldridge\, ursprungligen från England\, ställer ut sin konst på Tornedalens Folkhögskola \n‘Jag heter Alice Aldridge\, en 24 år gammal konstnär ursprungligen från England. Mina målningar är baserade på min kärlek till naturen och djurlivet. Jag har arbetat som professionell konstnär i 4 år. Jag gör lite av allt\, inklusive skrivomslag för musik\, husdjurs porträtt och barnbok illustration.’ \nAlla är hjärtligt välkomna att besöka utställningen under följande datum:\n26/8– 13/9 \nUtställning i huvudbyggnaden\, Matarengivägen 24G\, dagtid\, vardagar.\nFri Entré
URL:https://overtorneaevenemang.se/evenemang/konstutstallning-alice-aldridge-2/
LOCATION:Tornedalens Folkhögskola\, Matarengivägen 24G\, Övertorneå\, 95731
ATTACH;FMTTYPE=image/png:https://overtorneaevenemang.se/wp-content/uploads/2024/08/Alice-Aldridge-8.png
ORGANIZER;CN="Tornedalens folkh%C3%B6gskola":MAILTO:info@tornedalen.se
END:VEVENT
END:VCALENDAR