BEGIN:VCALENDAR
VERSION:2.0
PRODID:-//Övertorneå evenemang - ECPv6.15.1.1//NONSGML v1.0//EN
CALSCALE:GREGORIAN
METHOD:PUBLISH
X-WR-CALNAME:Övertorneå evenemang
X-ORIGINAL-URL:https://overtorneaevenemang.se
X-WR-CALDESC:Händelser för Övertorneå evenemang
REFRESH-INTERVAL;VALUE=DURATION:PT1H
X-Robots-Tag:noindex
X-PUBLISHED-TTL:PT1H
BEGIN:VTIMEZONE
TZID:Europe/Stockholm
BEGIN:DAYLIGHT
TZOFFSETFROM:+0100
TZOFFSETTO:+0200
TZNAME:CEST
DTSTART:20240331T010000
END:DAYLIGHT
BEGIN:STANDARD
TZOFFSETFROM:+0200
TZOFFSETTO:+0100
TZNAME:CET
DTSTART:20241027T010000
END:STANDARD
END:VTIMEZONE
BEGIN:VEVENT
DTSTART;TZID=Europe/Stockholm:20240902T090000
DTEND;TZID=Europe/Stockholm:20240928T140000
DTSTAMP:20260421T160702
CREATED:20240812T084708Z
LAST-MODIFIED:20240812T084708Z
UID:10001032-1725267600-1727532000@overtorneaevenemang.se
SUMMARY:Demokratiutställning
DESCRIPTION:Varmt välkomna till utställningen Demokrati finns inte – Vi gör den! Utställningen kommer finnas tillgänglig på Tornedalens bibliotek under bibliotekets öppettider från den 2 september till den 28 september. Under utställningen kan du ta del av människors engagemang världen över och fundera över ditt eget engagemang och ta ställning. Utställningen är öppen för alla. \nDemokratiskt engagemang kan komma i många former och se ut på flera olika vis. I utställningen möter du människors personliga demokratiberättelser och föremål som en serie nedslag i tid och rum. Varje person har fått välja ut ett föremål som för just dem symboliserar demokratiskt engagemang. \nUtställningen utgår ifrån forskning från Varieties of Democracy\, vid Göteborgs universitet. I detta världsledande forskningsprogram mäts demokratisk utveckling i världen. Utställningen omsätter sedan forskningen till fem olika demokratiska ideal; rättvisa val\, frihet\, jämlikhet\, öppenhet samt deltagande. \nDemokrati finns inte – vi gör den! riktar sig till en bred allmänhet men är också en del av en större demokratisatsning för skolan. Utställningen är producerad med stöd från Riksantikvarieämbetet och i samarbete med Varieties of Democracy och European Alternatives.
URL:https://overtorneaevenemang.se/evenemang/demokratiutstallning/
LOCATION:Tornedalens Bibliotek\, Skolvägen 17\, Övertorneå\, 95785
CATEGORIES:Kultur
ATTACH;FMTTYPE=image/jpeg:https://overtorneaevenemang.se/wp-content/uploads/2024/08/demokrati-finns-inte-hero.jpg
END:VEVENT
BEGIN:VEVENT
DTSTART;TZID=Europe/Stockholm:20240911T080000
DTEND;TZID=Europe/Stockholm:20240925T170000
DTSTAMP:20260421T160702
CREATED:20240904T095000Z
LAST-MODIFIED:20240904T095000Z
UID:10001050-1726041600-1727283600@overtorneaevenemang.se
SUMMARY:Meänkielinen porinakerho Pohjoskalottipipluteekissä
DESCRIPTION:Tule puhuhmaan meänkieltä Pohjoskalottipipluteekissä! Met keitämä kahvit.\nKom och prata meänkieli med oss! Vi bjuder på kaffe.
URL:https://overtorneaevenemang.se/evenemang/meankielinen-porinakerho-pohjoskalottipipluteekissa-6/
LOCATION:Nordkalottbiblioteket\, Matarengivägen 24i
ATTACH;FMTTYPE=image/png:https://overtorneaevenemang.se/wp-content/uploads/2024/09/thumbnail_porinakerho-syyskuu.png
END:VEVENT
BEGIN:VEVENT
DTSTART;TZID=Europe/Stockholm:20240916T190000
DTEND;TZID=Europe/Stockholm:20240916T203900
DTSTAMP:20260421T160702
CREATED:20240912T120837Z
LAST-MODIFIED:20240912T120837Z
UID:10001052-1726513200-1726519140@overtorneaevenemang.se
SUMMARY:BIO: MISÈRIA
DESCRIPTION:Måndag 16 september kl 19.00  Från 15 år  Genre: Drama\, action crime Längd: 1 tim 39 min Entré 100 kr
URL:https://overtorneaevenemang.se/evenemang/bio-miseria/
LOCATION:Folkets hus Övertorneå\, Industrivägen 3\, Övertorneå\, 95732\, Sverige
ATTACH;FMTTYPE=image/jpeg:https://overtorneaevenemang.se/wp-content/uploads/2024/09/Miseria.jpg
ORGANIZER;CN="Folkets hus &Ouml%3Bvertorne&aring%3B":MAILTO:info@folketshus.info
END:VEVENT
BEGIN:VEVENT
DTSTART;TZID=Europe/Stockholm:20240918T093000
DTEND;TZID=Europe/Stockholm:20240918T100000
DTSTAMP:20260421T160702
CREATED:20240821T073407Z
LAST-MODIFIED:20240821T081713Z
UID:10001038-1726651800-1726653600@overtorneaevenemang.se
SUMMARY:Babybabbel på Familjecentralen
DESCRIPTION:Välkommen på Babybabbel med biblioteket på Familjecentralen!\nBabybabbel är en aktivitet för de minsta barnen och deras vuxna där vi upptäcker språket tillsammans. Vi läser pekböcker\, ramsor och sjunger. Babybabbel riktar sig främst till barn mellan 5-18 månader. Varje träff har fokus på ett speciellt tema.\nVi träffas klockan 9.30 -10.00\, fyra onsdagar i höst 18/9\, 16/10\, 13/11 och 11/12.  \nIngen föranmälan krävs.
URL:https://overtorneaevenemang.se/evenemang/babybabbel-pa-familjecentralen/
LOCATION:Familjens hus
CATEGORIES:För barn,Kultur
ATTACH;FMTTYPE=image/png:https://overtorneaevenemang.se/wp-content/uploads/2024/08/BABYBABBEL.png
END:VEVENT
BEGIN:VEVENT
DTSTART;TZID=Europe/Stockholm:20240919T190000
DTEND;TZID=Europe/Stockholm:20240919T204500
DTSTAMP:20260421T160702
CREATED:20240912T121525Z
LAST-MODIFIED:20240912T121525Z
UID:10001053-1726772400-1726778700@overtorneaevenemang.se
SUMMARY:BIO: BEETLEJUICE
DESCRIPTION:Torsdag 19 september kl 19.00  Från 11 år  Längd 1 tim 45 min  Entré 100kr
URL:https://overtorneaevenemang.se/evenemang/bio-beetlejuice/
LOCATION:Folkets hus Övertorneå\, Industrivägen 3\, Övertorneå\, 95732\, Sverige
ATTACH;FMTTYPE=image/jpeg:https://overtorneaevenemang.se/wp-content/uploads/2024/09/Beetlejuice.jpg
ORGANIZER;CN="Folkets hus &Ouml%3Bvertorne&aring%3B":MAILTO:info@folketshus.info
END:VEVENT
BEGIN:VEVENT
DTSTART;TZID=Europe/Stockholm:20240921T090000
DTEND;TZID=Europe/Stockholm:20240921T180000
DTSTAMP:20260421T160702
CREATED:20240829T075520Z
LAST-MODIFIED:20240903T085117Z
UID:10001048-1726909200-1726941600@overtorneaevenemang.se
SUMMARY:Konstresa till Rovaniemi
DESCRIPTION:Följ med och låt oss dyka in i en värld av kreativitet och inspiration.\nVi besöker 3 olika konsthallar och museer.
URL:https://overtorneaevenemang.se/evenemang/konstresa-till-rovaniemi/
CATEGORIES:Kultur
ATTACH;FMTTYPE=image/jpeg:https://overtorneaevenemang.se/wp-content/uploads/2024/08/skanna0028.jpg
END:VEVENT
BEGIN:VEVENT
DTSTART;TZID=Europe/Stockholm:20240921T103000
DTEND;TZID=Europe/Stockholm:20240921T110000
DTSTAMP:20260421T160702
CREATED:20240830T111950Z
LAST-MODIFIED:20240830T111950Z
UID:10001049-1726914600-1726916400@overtorneaevenemang.se
SUMMARY:Sagostund på biblioteket
DESCRIPTION:Anna-Karin berättar sagan om “Ritas svans” av Helena Koch & Sara Heldt.
URL:https://overtorneaevenemang.se/evenemang/sagostund-pa-biblioteket/
LOCATION:Tornedalens Bibliotek\, Skolvägen 17\, Övertorneå\, 95785
CATEGORIES:Familjeaktivitet,Idrott
ATTACH;FMTTYPE=image/jpeg:https://overtorneaevenemang.se/wp-content/uploads/2024/08/mouse-6278140_1280.jpg
END:VEVENT
END:VCALENDAR