BEGIN:VCALENDAR
VERSION:2.0
PRODID:-//Övertorneå evenemang - ECPv6.15.1.1//NONSGML v1.0//EN
CALSCALE:GREGORIAN
METHOD:PUBLISH
X-WR-CALNAME:Övertorneå evenemang
X-ORIGINAL-URL:https://overtorneaevenemang.se
X-WR-CALDESC:Händelser för Övertorneå evenemang
REFRESH-INTERVAL;VALUE=DURATION:PT1H
X-Robots-Tag:noindex
X-PUBLISHED-TTL:PT1H
BEGIN:VTIMEZONE
TZID:Europe/Stockholm
BEGIN:DAYLIGHT
TZOFFSETFROM:+0100
TZOFFSETTO:+0200
TZNAME:CEST
DTSTART:20240331T010000
END:DAYLIGHT
BEGIN:STANDARD
TZOFFSETFROM:+0200
TZOFFSETTO:+0100
TZNAME:CET
DTSTART:20241027T010000
END:STANDARD
END:VTIMEZONE
BEGIN:VEVENT
DTSTART;TZID=Europe/Stockholm:20241016T080000
DTEND;TZID=Europe/Stockholm:20241030T150000
DTSTAMP:20260421T131224
CREATED:20241009T091838Z
LAST-MODIFIED:20241009T091838Z
UID:10001086-1729065600-1730300400@overtorneaevenemang.se
SUMMARY:Meänkielinen porinakerho Pohjoskalottipipluteekissä
DESCRIPTION:Tule puhuhmaan meänkieltä! Met keitämä kahvit!\nKom och snacka meänkieli med oss! Vi bjuder på kaffe!
URL:https://overtorneaevenemang.se/evenemang/meankielinen-porinakerho-pohjoskalottipipluteekissa-7/
LOCATION:Nordkalottbiblioteket\, Matarengivägen 24i
ATTACH;FMTTYPE=image/jpeg:https://overtorneaevenemang.se/wp-content/uploads/2024/10/porinakerho-lokakuu-1-scaled.jpg
END:VEVENT
BEGIN:VEVENT
DTSTART;TZID=Europe/Stockholm:20241023T130000
DTEND;TZID=Europe/Stockholm:20241023T150000
DTSTAMP:20260421T131224
CREATED:20241007T082436Z
LAST-MODIFIED:20241007T082436Z
UID:10001082-1729688400-1729695600@overtorneaevenemang.se
SUMMARY:SÅ LÄNGE HJÄRTAT SLÅR
DESCRIPTION:Onsdag 23 Okt (Dagbio) kl: 13:00 0c(Kvällsbio)Kl:19:00\nGenre: Drama\nFrån: 11 År\nLängd: 1 tim 55 min\nEntré: 100 Kr \nHanne jobbar på ett äldreboende när avstånd\, osäkerhet och munskydd blir en del av allas vardag i mars 2020. När bristande säkerhetsprotokoll och hemmagjorda visir eskalerar till ren livsfara för hennes patienter\, konfronterar hon en ledning som sopar allt under mattan. Med vetskapen om att hon riskerar jobb\, vänner och förtroende\, bestämmer hon sig för att gå till media – och tvingas välja mellan att vara tyst eller att lämna. \nSå länge hjärtat slår är inspirerad av verkliga händelser.
URL:https://overtorneaevenemang.se/evenemang/sa-lange-hjartat-slar/2024-10-23/1/
LOCATION:Folkets hus Övertorneå\, Industrivägen 3\, Övertorneå\, 95732\, Sverige
ATTACH;FMTTYPE=image/jpeg:https://overtorneaevenemang.se/wp-content/uploads/2024/10/sa_lange_hjartat_slar_affisch_©triart_film-sfd-scaled.jpg
ORGANIZER;CN="Folkets hus &Ouml%3Bvertorne&aring%3B":MAILTO:info@folketshus.info
END:VEVENT
BEGIN:VEVENT
DTSTART;TZID=Europe/Stockholm:20241023T190000
DTEND;TZID=Europe/Stockholm:20241023T210000
DTSTAMP:20260421T131224
CREATED:20241007T082436Z
LAST-MODIFIED:20241007T082436Z
UID:10001083-1729710000-1729717200@overtorneaevenemang.se
SUMMARY:SÅ LÄNGE HJÄRTAT SLÅR
DESCRIPTION:Onsdag 23 Okt (Dagbio) kl: 13:00 0c(Kvällsbio)Kl:19:00\nGenre: Drama\nFrån: 11 År\nLängd: 1 tim 55 min\nEntré: 100 Kr \nHanne jobbar på ett äldreboende när avstånd\, osäkerhet och munskydd blir en del av allas vardag i mars 2020. När bristande säkerhetsprotokoll och hemmagjorda visir eskalerar till ren livsfara för hennes patienter\, konfronterar hon en ledning som sopar allt under mattan. Med vetskapen om att hon riskerar jobb\, vänner och förtroende\, bestämmer hon sig för att gå till media – och tvingas välja mellan att vara tyst eller att lämna. \nSå länge hjärtat slår är inspirerad av verkliga händelser.
URL:https://overtorneaevenemang.se/evenemang/sa-lange-hjartat-slar/2024-10-23/2/
LOCATION:Folkets hus Övertorneå\, Industrivägen 3\, Övertorneå\, 95732\, Sverige
ATTACH;FMTTYPE=image/jpeg:https://overtorneaevenemang.se/wp-content/uploads/2024/10/sa_lange_hjartat_slar_affisch_©triart_film-sfd-scaled.jpg
ORGANIZER;CN="Folkets hus &Ouml%3Bvertorne&aring%3B":MAILTO:info@folketshus.info
END:VEVENT
BEGIN:VEVENT
DTSTART;TZID=Europe/Stockholm:20241024T080000
DTEND;TZID=Europe/Stockholm:20241024T133000
DTSTAMP:20260421T131224
CREATED:20241002T114735Z
LAST-MODIFIED:20241002T114735Z
UID:10001067-1729756800-1729776600@overtorneaevenemang.se
SUMMARY:Fanbärare\, folkbildare och spottkopp
DESCRIPTION:Olov Abrahamsson berättar om sina 37år som ledarskribent
URL:https://overtorneaevenemang.se/evenemang/fanbarare-folkbildare-och-spottkopp/
LOCATION:ABF Norr Övertorneå\, Matarengivägen 21\, Övertorneå
CATEGORIES:Kultur
ATTACH;FMTTYPE=image/png:https://overtorneaevenemang.se/wp-content/uploads/2024/10/Olov-Abrahamsson-Ot-24.1024.png
ORGANIZER;CN="ABF Norr %C3%96vertorne%C3%A5":MAILTO:info.overtornea@abf.se
END:VEVENT
BEGIN:VEVENT
DTSTART;TZID=Europe/Stockholm:20241027T130000
DTEND;TZID=Europe/Stockholm:20241027T143000
DTSTAMP:20260421T131224
CREATED:20241011T112952Z
LAST-MODIFIED:20241011T112952Z
UID:10001089-1730034000-1730039400@overtorneaevenemang.se
SUMMARY:BIO: DEN VILDA ROBOTEN
DESCRIPTION:Söndag 27 Oktober kl 13.00\nGenre: Animerad film\, familjefilm\nLängd: 1 tim 42 min\nFrån 7 år\nEntré 80 kr
URL:https://overtorneaevenemang.se/evenemang/bio-den-vilda-roboten/
LOCATION:Folkets hus Övertorneå\, Industrivägen 3\, Övertorneå\, 95732\, Sverige
ATTACH;FMTTYPE=image/jpeg:https://overtorneaevenemang.se/wp-content/uploads/2024/10/Den-vilda.jpg
ORGANIZER;CN="Folkets hus &Ouml%3Bvertorne&aring%3B":MAILTO:info@folketshus.info
END:VEVENT
BEGIN:VEVENT
DTSTART;TZID=Europe/Stockholm:20241027T180000
DTEND;TZID=Europe/Stockholm:20241027T190000
DTSTAMP:20260421T131224
CREATED:20241023T195111Z
LAST-MODIFIED:20241023T195111Z
UID:10001093-1730052000-1730055600@overtorneaevenemang.se
SUMMARY:Tröstevisa
DESCRIPTION:Till minne av våra nära och kära.\nMedverkande: Josefina Kenttämaa\, Nina Pieti\, Katrin Meriloo och Linda Modig.
URL:https://overtorneaevenemang.se/evenemang/trostevisa-2/
LOCATION:Övertorneå kyrka\, Kyrkogatan 1A\, Övertorneå\, 957 31
CATEGORIES:Konsert
ATTACH;FMTTYPE=image/jpeg:https://overtorneaevenemang.se/wp-content/uploads/2024/10/IMG-20241017-WA0000.jpg
ORGANIZER;CN="%C3%96vertorne%C3%A5 f%C3%B6rsamling":MAILTO:overtornea.forsamling@svenskakyrkan.se
END:VEVENT
END:VCALENDAR