BEGIN:VCALENDAR
VERSION:2.0
PRODID:-//Övertorneå evenemang - ECPv6.15.1.1//NONSGML v1.0//EN
CALSCALE:GREGORIAN
METHOD:PUBLISH
X-ORIGINAL-URL:https://overtorneaevenemang.se
X-WR-CALDESC:Händelser för Övertorneå evenemang
REFRESH-INTERVAL;VALUE=DURATION:PT1H
X-Robots-Tag:noindex
X-PUBLISHED-TTL:PT1H
BEGIN:VTIMEZONE
TZID:Europe/Stockholm
BEGIN:DAYLIGHT
TZOFFSETFROM:+0100
TZOFFSETTO:+0200
TZNAME:CEST
DTSTART:20240331T010000
END:DAYLIGHT
BEGIN:STANDARD
TZOFFSETFROM:+0200
TZOFFSETTO:+0100
TZNAME:CET
DTSTART:20241027T010000
END:STANDARD
END:VTIMEZONE
BEGIN:VEVENT
DTSTART;TZID=Europe/Stockholm:20241105T190000
DTEND;TZID=Europe/Stockholm:20241105T210000
DTSTAMP:20260421T095821
CREATED:20241007T105211Z
LAST-MODIFIED:20241007T105211Z
UID:10001084-1730833200-1730840400@overtorneaevenemang.se
SUMMARY:SMILE 2
DESCRIPTION:Tisdag 5 Nov Kl: 19:00\nGenre: skräck\nFrån: 15 år\nLängd: 2 tim 7 min\nEntré: 100 kr \nNär hon är på väg att ge sig ut för en ny världsturné börjar den globala popsensationen Skye Riley uppleva allt mer skrämmande och oförklarliga händelser. Överväldigad av de eskalerande fasorna och pressad av all berömmelse\, tvingas Skye möta sitt mörka förflutna för att återta kontrollen över sitt liv innan det spårar ur.
URL:https://overtorneaevenemang.se/evenemang/smile-2-2/
LOCATION:Folkets hus Övertorneå\, Industrivägen 3\, Övertorneå\, 95732\, Sverige
ATTACH;FMTTYPE=image/jpeg:https://overtorneaevenemang.se/wp-content/uploads/2024/10/smile2_affisch_digital-1-scaled.jpg
ORGANIZER;CN="Folkets hus &Ouml%3Bvertorne&aring%3B":MAILTO:info@folketshus.info
END:VEVENT
BEGIN:VEVENT
DTSTART;TZID=Europe/Stockholm:20241106T180000
DTEND;TZID=Europe/Stockholm:20241106T183000
DTSTAMP:20260421T095821
CREATED:20241014T141159Z
LAST-MODIFIED:20241014T141159Z
UID:10001090-1730916000-1730917800@overtorneaevenemang.se
SUMMARY:Kaiken takana on nainen
DESCRIPTION:Kvinnokören Revontulet (Norrskenet) från finska Pello uppträder med sång.
URL:https://overtorneaevenemang.se/evenemang/kaiken-takana-on-nainen/
LOCATION:Röda Kvarn i Övertorneå\, Matarengivägen 16\, Övertorneå\, 957 31
CATEGORIES:Konsert
ATTACH;FMTTYPE=image/jpeg:https://overtorneaevenemang.se/wp-content/uploads/2024/10/revontulet.jpg
ORGANIZER;CN="%C3%96vertorne%C3%A5 teaterf%C3%B6rening":MAILTO:marita.mattsson@barsk.se
END:VEVENT
BEGIN:VEVENT
DTSTART;TZID=Europe/Stockholm:20241107T190000
DTEND;TZID=Europe/Stockholm:20241107T210000
DTSTAMP:20260421T095821
CREATED:20241007T075554Z
LAST-MODIFIED:20241025T094553Z
UID:10001075-1731006000-1731013200@overtorneaevenemang.se
SUMMARY:VENOM THE LAST DANCE
DESCRIPTION:Torsdag 7 Nov Kl: 19:00\nGenre: Action\, Äventyr\, Sci-Fi\nFrån: 15 år\nLängd: 1 tim 49 min\nEntré: 100 Kr \nI den sista filmen i trilogin om Venom\, en av Marvels mest komplexa karaktärer är Eddie och Venom på rymmen. De jagas av bådas världar och när snaran dras åt tvingas duon till ett förödande beslut som gör att ridån går ner för Venoms och Eddies sista dans.
URL:https://overtorneaevenemang.se/evenemang/venom-the-last-dance/
LOCATION:Folkets hus Övertorneå\, Industrivägen 3\, Övertorneå\, 95732\, Sverige
ATTACH;FMTTYPE=image/jpeg:https://overtorneaevenemang.se/wp-content/uploads/2024/10/venom-thelastdance_affisch.jpg
ORGANIZER;CN="Folkets hus &Ouml%3Bvertorne&aring%3B":MAILTO:info@folketshus.info
END:VEVENT
BEGIN:VEVENT
DTSTART;TZID=Europe/Stockholm:20241110T130000
DTEND;TZID=Europe/Stockholm:20241110T143500
DTSTAMP:20260421T095821
CREATED:20241007T082212Z
LAST-MODIFIED:20241011T102612Z
UID:10001081-1731243600-1731249300@overtorneaevenemang.se
SUMMARY:DUMMA MEJ 4
DESCRIPTION:Söndag 10 Nov Kl: 13:00\nGenre: Animerat\, Komedi\, Äventyr\, Familj\nFrån: 7 år\nLängd: 1 tim 34 min\nEntré: 80 Kr \nI den första Dumma Mej-filmen på sju år\, återvänder Gru\, världens favoritsuperskurk som blev Anti-Villain League-agent\, till en ny och spännande era av minion-galenskap i Illuminations ”Dumma Mej 4”.
URL:https://overtorneaevenemang.se/evenemang/dumma-mej-4/
LOCATION:Folkets hus Övertorneå\, Industrivägen 3\, Övertorneå\, 95732\, Sverige
ATTACH;FMTTYPE=image/jpeg:https://overtorneaevenemang.se/wp-content/uploads/2024/10/dummamej4_digitalaffisch.jpg
ORGANIZER;CN="Folkets hus &Ouml%3Bvertorne&aring%3B":MAILTO:info@folketshus.info
END:VEVENT
END:VCALENDAR