BEGIN:VCALENDAR
VERSION:2.0
PRODID:-//Övertorneå evenemang - ECPv6.15.1.1//NONSGML v1.0//EN
CALSCALE:GREGORIAN
METHOD:PUBLISH
X-WR-CALNAME:Övertorneå evenemang
X-ORIGINAL-URL:https://overtorneaevenemang.se
X-WR-CALDESC:Händelser för Övertorneå evenemang
REFRESH-INTERVAL;VALUE=DURATION:PT1H
X-Robots-Tag:noindex
X-PUBLISHED-TTL:PT1H
BEGIN:VTIMEZONE
TZID:Europe/Stockholm
BEGIN:DAYLIGHT
TZOFFSETFROM:+0100
TZOFFSETTO:+0200
TZNAME:CEST
DTSTART:20240331T010000
END:DAYLIGHT
BEGIN:STANDARD
TZOFFSETFROM:+0200
TZOFFSETTO:+0100
TZNAME:CET
DTSTART:20241027T010000
END:STANDARD
END:VTIMEZONE
BEGIN:VEVENT
DTSTART;TZID=Europe/Stockholm:20241118T190000
DTEND;TZID=Europe/Stockholm:20241118T213000
DTSTAMP:20260421T061825
CREATED:20241007T074112Z
LAST-MODIFIED:20241104T081944Z
UID:10001072-1731956400-1731965400@overtorneaevenemang.se
SUMMARY:GLADIATOR 2
DESCRIPTION:Måndag 18 Nov Kl: 19:00\nGenre: Action\, Äventyr\, Drama\nFrån: 15 År\nLängd: 2 tim 28 min\nEntré: 100 Kr \nFrån den legendariska regissören Ridley Scott\, fortsätter Gladiator II den episka sagan om makt\, intriger och hämnd i det antika Rom. År efter att ha bevittnat den ärade hjälten Maximus död\, som orsakades av hans morbror\, tvingas Lucius att gå in i Colosseum efter att hans hem erövrats av de tyranniska kejsarna som nu styr Rom med järnhand. Med vrede i hjärtat och imperiets framtid på spel\, måste Lucius söka i sitt förflutna för att hitta styrka och heder att återge Rom dess forna glans och ära till dess folk.
URL:https://overtorneaevenemang.se/evenemang/gladiator-2/
LOCATION:Folkets hus Övertorneå\, Industrivägen 3\, Övertorneå\, 95732\, Sverige
ATTACH;FMTTYPE=image/jpeg:https://overtorneaevenemang.se/wp-content/uploads/2024/10/gladiator2_exhibitor_1440x2160.jpg
ORGANIZER;CN="Folkets hus &Ouml%3Bvertorne&aring%3B":MAILTO:info@folketshus.info
END:VEVENT
BEGIN:VEVENT
DTSTART;VALUE=DATE:20241119
DTEND;VALUE=DATE:20241126
DTSTAMP:20260421T061825
CREATED:20241117T100637Z
LAST-MODIFIED:20241117T100637Z
UID:10001102-1731974400-1732579199@overtorneaevenemang.se
SUMMARY:Kvinnofridsveckan 2024
DESCRIPTION:Under Kvinnofridsveckan så anordnar vi massor med evenemang!\nVisst ses vi?
URL:https://overtorneaevenemang.se/evenemang/kvinnofridsveckan-2024/
CATEGORIES:Kultur
ATTACH;FMTTYPE=image/png:https://overtorneaevenemang.se/wp-content/uploads/2024/11/2024-Kvinnofridsveckan-Instagram-inlagg-4.png
END:VEVENT
BEGIN:VEVENT
DTSTART;TZID=Europe/Stockholm:20241120T090000
DTEND;TZID=Europe/Stockholm:20241120T120000
DTSTAMP:20260421T061825
CREATED:20241112T082106Z
LAST-MODIFIED:20241112T082106Z
UID:10001100-1732093200-1732104000@overtorneaevenemang.se
SUMMARY:Internationella GIS-dagen 20 november firas med tårta
DESCRIPTION:Den 20 november infaller den internationella GIS-dagen. Vi firar det genom att bjuda på tårta tillsammans med NorrGis och presenterar en ny kartportal i kommunhuset på Tingshusvägen 2 i Övertorneå mellan 9:00-12:00. Varmt välkommen! \nGIS står för geografiskt informationssystem och är ett datorbaserat system för att samla in\, lagra\, bearbeta\, analysera och presentera geografisk data. Läs mer om GIS på wikipedia här: https://sv.wikipedia.org/wiki/Geografiskt_informationssystem
URL:https://overtorneaevenemang.se/evenemang/internationella-gis-dagen-20-november-firas-med-tarta/
LOCATION:Övertorneå kommun\, Tingshusvägen 2\, Övertorneå\, 95731\, Sverige
ATTACH;FMTTYPE=image/png:https://overtorneaevenemang.se/wp-content/uploads/2024/11/gisdagen.png
ORGANIZER;CN="%C3%96vertorne%C3%A5 kommun":MAILTO:kommun@overtornea.se
END:VEVENT
END:VCALENDAR