BEGIN:VCALENDAR
VERSION:2.0
PRODID:-//Övertorneå evenemang - ECPv6.15.1.1//NONSGML v1.0//EN
CALSCALE:GREGORIAN
METHOD:PUBLISH
X-WR-CALNAME:Övertorneå evenemang
X-ORIGINAL-URL:https://overtorneaevenemang.se
X-WR-CALDESC:Händelser för Övertorneå evenemang
REFRESH-INTERVAL;VALUE=DURATION:PT1H
X-Robots-Tag:noindex
X-PUBLISHED-TTL:PT1H
BEGIN:VTIMEZONE
TZID:Europe/Stockholm
BEGIN:DAYLIGHT
TZOFFSETFROM:+0100
TZOFFSETTO:+0200
TZNAME:CEST
DTSTART:20240331T010000
END:DAYLIGHT
BEGIN:STANDARD
TZOFFSETFROM:+0200
TZOFFSETTO:+0100
TZNAME:CET
DTSTART:20241027T010000
END:STANDARD
END:VTIMEZONE
BEGIN:VEVENT
DTSTART;TZID=Europe/Stockholm:20241206T100000
DTEND;TZID=Europe/Stockholm:20241206T110000
DTSTAMP:20260421T075747
CREATED:20241113T135522Z
LAST-MODIFIED:20241113T135816Z
UID:10001101-1733479200-1733482800@overtorneaevenemang.se
SUMMARY:Tomtegympa och sagostund
DESCRIPTION:Familjecentralen och biblioteket bjuder in till tomtegympa och sagostund.\nFredag 6 december\, klockan 10-11 i Jägmästarparken. \nVi samlas vid elden och läser ur “Kommer inte tomten snart?” och sen blir det tomtegympa!  \nVi bjuder på varm saft. Om ni vill får ni ha tomteluva på er.
URL:https://overtorneaevenemang.se/evenemang/tomtegympa-och-sagostund/
LOCATION:Jägmästarparken\, Matarengivägen 10\, Övertorneå\, 95731\, Sverige
CATEGORIES:Idrott,Kultur
ATTACH;FMTTYPE=image/png:https://overtorneaevenemang.se/wp-content/uploads/2024/11/Tomtegympasagostund-INSTA.png
END:VEVENT
END:VCALENDAR