BEGIN:VCALENDAR
VERSION:2.0
PRODID:-//Övertorneå evenemang - ECPv6.15.1.1//NONSGML v1.0//EN
CALSCALE:GREGORIAN
METHOD:PUBLISH
X-WR-CALNAME:Övertorneå evenemang
X-ORIGINAL-URL:https://overtorneaevenemang.se
X-WR-CALDESC:Händelser för Övertorneå evenemang
REFRESH-INTERVAL;VALUE=DURATION:PT1H
X-Robots-Tag:noindex
X-PUBLISHED-TTL:PT1H
BEGIN:VTIMEZONE
TZID:Europe/Stockholm
BEGIN:DAYLIGHT
TZOFFSETFROM:+0100
TZOFFSETTO:+0200
TZNAME:CEST
DTSTART:20250330T010000
END:DAYLIGHT
BEGIN:STANDARD
TZOFFSETFROM:+0200
TZOFFSETTO:+0100
TZNAME:CET
DTSTART:20251026T010000
END:STANDARD
END:VTIMEZONE
BEGIN:VEVENT
DTSTART;TZID=Europe/Stockholm:20250327T190000
DTEND;TZID=Europe/Stockholm:20250327T203000
DTSTAMP:20260420T141506
CREATED:20250203T103448Z
LAST-MODIFIED:20250203T104243Z
UID:10001137-1743102000-1743107400@overtorneaevenemang.se
SUMMARY:Vera Vinter - Från mitt berg
DESCRIPTION:Den norrbottniska artisten och låtskrivaren Vera Vinter bjuder på en finstämd och känslosam musikupplevelse i konserten Från mitt berg. Född och uppvuxen i Stora Lappträsk utanför Kalix bär Vera Vinter med sig Norrbotten i allt hon gör\, framför allt i sin musik. Människorna\, platserna\, kynnet\, naturen. Den här konserten består av nyskrivna sånger där inspiration både till text och musik är hämtad från en av Vera Vinters favoritplatser som barn – Brännaberget i Överkalix. Hon sjunger på svenska\, men även en hel del på Kalixmål. \nBiljetter: 150 kr medlem\, 200 kr övriga
URL:https://overtorneaevenemang.se/evenemang/vera-vinter-fran-mitt-berg/
LOCATION:Folkets hus Övertorneå\, Industrivägen 3\, Övertorneå\, 95732\, Sverige
CATEGORIES:Kultur
ATTACH;FMTTYPE=image/jpeg:https://overtorneaevenemang.se/wp-content/uploads/2025/02/vera_vinter_2024_02.jpg
ORGANIZER;CN="%C3%96vertorne%C3%A5 teaterf%C3%B6rening":MAILTO:marita.mattsson@barsk.se
END:VEVENT
BEGIN:VEVENT
DTSTART;TZID=Europe/Stockholm:20250328T080000
DTEND;TZID=Europe/Stockholm:20250328T170000
DTSTAMP:20260420T141506
CREATED:20250304T080747Z
LAST-MODIFIED:20250407T070054Z
UID:10001148-1743148800-1743181200@overtorneaevenemang.se
SUMMARY:KONST UTSTÄLLNING/BOKSLÄPP – EVA STINA SANDLING
DESCRIPTION:“Ira bor i Norrbotten nära den stora älven som skickar elström i mörka streck på himlen. Älven som en gång sjöng och brusade som den ville\, hade farmor berättat. Farmor som nyligen dog. Hon visste det mesta om skogen\, djuren\,  bergen och växterna. Hon lärde Ira att lyssna och se. Alltid fråga naturen om lov. Innan. Nu är mamma och pappa oroliga. De pratar om framtiden och om hur underligt vädret blivit. Och gruvan. Ska allting förstöras. Ira förstår vad hon måste göra.” \nNu kommer bilderboken Ira lyssnar ut i nytryck med text på meänkieli.\nKonstverk skapade av författaren Eva Stina Sandling är utställda på Tornedalens folkhögskola. \nVernissage fredag 28 mars kl 13:00.\nPå plats finns författaren Eva Stina Sandling. \nAlla är hjärtligt välkomna att besöka utställningen under följande datum:\n28/3– 16/4 kl. 11.00 \nOBS! utställningen finns kvar till kl 11.00 på onsdag den 16/4 \nUtställning i huvudbyggnaden\, Matarengivägen 24G\, dagtid\, vardagar.\nFri Entré
URL:https://overtorneaevenemang.se/evenemang/konst-utstallning-bokslapp-eva-stina-sandling/2025-03-28/1/
LOCATION:Tornedalens Folkhögskola\, Matarengivägen 24G\, Övertorneå\, 95731
CATEGORIES:Kultur
ATTACH;FMTTYPE=image/png:https://overtorneaevenemang.se/wp-content/uploads/2025/03/Eva-Stina-Sandling-A4.png
ORGANIZER;CN="Tornedalens folkh%C3%B6gskola":MAILTO:info@tornedalen.se
END:VEVENT
BEGIN:VEVENT
DTSTART;TZID=Europe/Stockholm:20250328T130000
DTEND;TZID=Europe/Stockholm:20250416T110000
DTSTAMP:20260420T141506
CREATED:20250304T080747Z
LAST-MODIFIED:20250407T070054Z
UID:10001149-1743166800-1744801200@overtorneaevenemang.se
SUMMARY:KONST UTSTÄLLNING/BOKSLÄPP – EVA STINA SANDLING
DESCRIPTION:“Ira bor i Norrbotten nära den stora älven som skickar elström i mörka streck på himlen. Älven som en gång sjöng och brusade som den ville\, hade farmor berättat. Farmor som nyligen dog. Hon visste det mesta om skogen\, djuren\,  bergen och växterna. Hon lärde Ira att lyssna och se. Alltid fråga naturen om lov. Innan. Nu är mamma och pappa oroliga. De pratar om framtiden och om hur underligt vädret blivit. Och gruvan. Ska allting förstöras. Ira förstår vad hon måste göra.” \nNu kommer bilderboken Ira lyssnar ut i nytryck med text på meänkieli.\nKonstverk skapade av författaren Eva Stina Sandling är utställda på Tornedalens folkhögskola. \nVernissage fredag 28 mars kl 13:00.\nPå plats finns författaren Eva Stina Sandling. \nAlla är hjärtligt välkomna att besöka utställningen under följande datum:\n28/3– 16/4 kl. 11.00 \nOBS! utställningen finns kvar till kl 11.00 på onsdag den 16/4 \nUtställning i huvudbyggnaden\, Matarengivägen 24G\, dagtid\, vardagar.\nFri Entré
URL:https://overtorneaevenemang.se/evenemang/konst-utstallning-bokslapp-eva-stina-sandling/2025-03-28/4/
LOCATION:Tornedalens Folkhögskola\, Matarengivägen 24G\, Övertorneå\, 95731
CATEGORIES:Kultur
ATTACH;FMTTYPE=image/png:https://overtorneaevenemang.se/wp-content/uploads/2025/03/Eva-Stina-Sandling-A4.png
ORGANIZER;CN="Tornedalens folkh%C3%B6gskola":MAILTO:info@tornedalen.se
END:VEVENT
END:VCALENDAR